BEGIN:VCALENDAR
VERSION:2.0
PRODID:-//ChamberMaster//Event Calendar 2.0//EN
METHOD:PUBLISH
X-PUBLISHED-TTL:P3D
REFRESH-INTERVAL:P3D
CALSCALE:GREGORIAN
BEGIN:VEVENT
DTSTART:20190916T160000Z
DTEND:20190916T170000Z
X-MICROSOFT-CDO-ALLDAYEVENT:FALSE
SUMMARY:Grand Re-Opening Ribbon Cutting Celebration YMCA of Bristol
DESCRIPTION:Please join us for the Grand Re-Opening Ribbon Cutting Celebration for the YMCA at Bristol.  Light lunch along with tours of all the new updates at the facility will be provided.
X-ALT-DESC;FMTTYPE=text/html:Please join us for the Grand Re-Opening Ribbon Cutting Celebration for the YMCA at Bristol.&nbsp\; Light lunch along with tours of all the new updates at the facility will be provided.&nbsp\;
LOCATION:YMCA of Bristol 400 Martin Luther King\, Jr. Blvd. Bristol\, TN
UID:e.2564.792085
SEQUENCE:3
DTSTAMP:20260424T084503Z
URL:https://business.bristolchamber.com/events/details/grand-re-opening-ribbon-cutting-celebration-ymca-of-bristol-792085
END:VEVENT

END:VCALENDAR
