BEGIN:VCALENDAR
VERSION:2.0
PRODID:-//ChamberMaster//Event Calendar 2.0//EN
METHOD:PUBLISH
X-PUBLISHED-TTL:P3D
REFRESH-INTERVAL:P3D
CALSCALE:GREGORIAN
BEGIN:VEVENT
DTSTART;VALUE=DATE:20221129
DTEND;VALUE=DATE:20221130
TRANSP:TRANSPARENT
X-MICROSOFT-CDO-ALLDAYEVENT:TRUE
SUMMARY:Giving Tuesday - Second Harvest Food Bank
DESCRIPTION:Join the Giving Tuesday movement and reimagine a world built upon shared humanity and radical generosity.\n\nPlease Give to Second Harvest Food Bank of Northeast Tennessee for Giving Tuesday and help to close the hunger gap we face in Northeast Tennessee.\n\nwww.netfoodbank.org\n\n\n\n \n\nSpecial thanks to Cumulus for helping us share the word about Giving Tuesday!\n\nLink to the Donation Page for Giving Tuesday - https://netfoodbank.networkforgood.com/projects/176016-second-harvest-of-northeast-tennessee-giving-tuesday-2022?fbclid=IwAR2jZ0dnDWy_T6lrdCig3tk9tZWrS2AfMz699VTkXimpYKfV1jFu8FU4Y-E
X-ALT-DESC;FMTTYPE=text/html:<div>Join the Giving Tuesday movement and reimagine a world built upon shared humanity and radical generosity.</div>\n\n<div>Please Give to Second Harvest Food Bank of Northeast Tennessee for Giving Tuesday and help to close the hunger gap we face in Northeast Tennessee.</div>\n\n<div><a class="x1i10hfl xjbqb8w x6umtig x1b1mbwd xaqea5y xav7gou x9f619 x1ypdohk xt0psk2 xe8uvvx xdj266r x11i5rnm xat24cr x1mh8g0r xexx8yu x4uap5 x18d9i69 xkhd6sd x16tdsg8 x1hl2dhg xggy1nq x1a2a7pz xt0b8zv x1fey0fg" href="https://l.facebook.com/l.php?u=http%3A%2F%2Fwww.netfoodbank.org%2F%3Ffbclid%3DIwAR3mWqwyC3OIIcV7XJDHkGC5sm8X3AsJpBUIHrU08X16DRXCiU1Cj6uNg-4&amp\;h=AT1Cd4x0SarqaPahEXmH3twW_DB7m28FPjMFN1AZAO4iQS3d7rA_ycI1dgZZhtwzew4fIVEkjqGkhvpvtodgCjZPBtdOemBl1RUxgb59ez_KKaTfR26QTKAM51UItzWW9g&amp\;__tn__=q&amp\;c[0]=AT2EEmKcABarkObHv9rBcdfgNDXfldk1D_U9WHuwLxH3rrfKVv4FzBQbdmWIT-mIT32W6K1TR8Vs-0pvoYxkoxr10ZUba0Tqk5KB79SYh9qY5Eld9po4Kh-83I3KCPziSJnzGb0YSUPSPpON79yKAMAFgDGX4ahE_ABBxIY96-w1_FHSj9A" rel="nofollow noopener" style="color: var(--blue-link)\; cursor: pointer\; text-decoration-line: none\; outline: none\; list-style: none\; border-width: 0px\; border-style: initial\; border-color: initial\; margin: 0px\; text-align: inherit\; padding: 0px\; -webkit-tap-highlight-color: transparent\; box-sizing: border-box\; touch-action: manipulation\; background-color: transparent\; display: inline\; font-family: inherit\;" tabindex="0" target="_blank">www.netfoodbank.org</a></div>\n\n<div><br />\n&nbsp\;</div>\n\n<div>Special thanks to Cumulus for helping us share the word about Giving Tuesday!</div>\n\n<div>Link to the Donation Page for Giving Tuesday -&nbsp\;https://netfoodbank.networkforgood.com/projects/176016-second-harvest-of-northeast-tennessee-giving-tuesday-2022?fbclid=IwAR2jZ0dnDWy_T6lrdCig3tk9tZWrS2AfMz699VTkXimpYKfV1jFu8FU4Y-E</div>\n
LOCATION:Donate Online!
UID:e.2564.795379
SEQUENCE:3
DTSTAMP:20260420T060417Z
URL:https://business.bristolchamber.com/events/details/giving-tuesday-second-harvest-food-bank-795379
END:VEVENT

END:VCALENDAR
