BEGIN:VCALENDAR
VERSION:2.0
PRODID:-//ChamberMaster//Event Calendar 2.0//EN
METHOD:PUBLISH
X-PUBLISHED-TTL:P3D
REFRESH-INTERVAL:P3D
CALSCALE:GREGORIAN
BEGIN:VEVENT
DTSTART:20230307T200000Z
DTEND:20230307T213000Z
X-MICROSOFT-CDO-ALLDAYEVENT:FALSE
SUMMARY:Fund Tennessee: Northeast Regional Kickoff Meeting
DESCRIPTION:Y ou're invited to learn about a statewide access to capital initiative called Fund Tennessee. Join Commissioner Stuart McWhorter of the Tennessee Department of Economic and Community Development (TNECD)\, Lindsey Cox\, CEO of LaunchTN\, and regional economic development partners who will provide an overview of the program. The Fund Tennessee initiative is designed to support and expand an inclusive continuum of access to capital for small businesses and entrepreneurs throughout Tennessee. The statewide initiative will assist in addressing:\n\n\n	loan capital for entrepreneurs and small business owners\n	equity capital for entrepreneurs and small business owners\n	technical assistance to help entrepreneurs and small business owners to become capital ready\n\n\n Who Should Attend?: small business owners\, entrepreneurs\, chambers of commerce\, banks\, credit unions\, CDFIs\, non-profits\, economic development professionals\, attorneys\, accountants\, investors\, high net worth individuals\, family offices\, foundations/community foundations\, trade associations\, and local residents.\n\nParking: Free parking is available in the Meadowview parking lot.\n\nT hank you to our partners and sponsors: LaunchTN\, First Tennessee Development District (FTDD)\, Sync.Space\, Kingsport Chamber\, City of Kingsport\, KOSBE\, Bristol Chamber of Commerce\, NETWORKS Sullivan Partnership\, Elizabethton Chamber of Commerce\, Greene County Partnership\, Tennessee Small Business Development Center (TSBDC)\, and The Johnson City Chamber of Commerce.
X-ALT-DESC;FMTTYPE=text/html:<p style="margin: 0px\; padding: 0px\; box-sizing: border-box\; color: rgb(111\, 114\, 135)\; font-size: 16px\; line-height: 1.5rem\; font-family: &quot\;Neue Plak&quot\;\, -apple-system\, BlinkMacSystemFont\, Roboto\, &quot\;Helvetica Neue&quot\;\, Helvetica\, Tahoma\, Arial\, sans-serif\;">Y&#65279\;ou&#39\;re invited to learn about a statewide access to capital initiative called Fund Tennessee. Join Commissioner Stuart McWhorter of the Tennessee Department of Economic and Community Development (TNECD)\, Lindsey Cox\, CEO of LaunchTN\, and regional economic development partners who will provide an overview of the program. The Fund Tennessee initiative is designed to support and expand an inclusive continuum of access to capital for small businesses and entrepreneurs throughout Tennessee. The statewide initiative will assist in addressing:</p>\n\n<ul style="margin: 0px\; padding-top: 10px\; padding-right: 0px\; padding-left: 2em\; list-style-position: initial\; list-style-image: initial\; box-sizing: border-box\; color: rgb(111\, 114\, 135)\; font-size: 16px\; line-height: 1.5rem\; font-family: &quot\;Neue Plak&quot\;\, -apple-system\, BlinkMacSystemFont\, Roboto\, &quot\;Helvetica Neue&quot\;\, Helvetica\, Tahoma\, Arial\, sans-serif\;">\n	<li style="margin: 0px\; padding: 0px\; box-sizing: border-box\;">loan capital for entrepreneurs and small business owners</li>\n	<li style="margin: 0px\; padding: 5px 0px 0px\; box-sizing: border-box\;">equity capital for entrepreneurs and small business owners</li>\n	<li style="margin: 0px\; padding: 5px 0px 0px\; box-sizing: border-box\;">technical assistance to help entrepreneurs and small business owners to become capital ready</li>\n</ul>\n\n<p style="margin: 0px\; padding: 10px 0px 0px\; box-sizing: border-box\; color: rgb(111\, 114\, 135)\; font-size: 16px\; line-height: 1.5rem\; font-family: &quot\;Neue Plak&quot\;\, -apple-system\, BlinkMacSystemFont\, Roboto\, &quot\;Helvetica Neue&quot\;\, Helvetica\, Tahoma\, Arial\, sans-serif\;"><span style="font-weight: 700\; box-sizing: border-box\; padding-top: 0px\;">&#65279\;Who Should Attend?:&nbsp\;</span>small business owners\, entrepreneurs\, chambers of commerce\, banks\, credit unions\, CDFIs\, non-profits\, economic development professionals\, attorneys\, accountants\, investors\, high net worth individuals\, family offices\, foundations/community foundations\, trade associations\, and local residents.</p>\n\n<p style="margin: 0px\; padding: 10px 0px 0px\; box-sizing: border-box\; color: rgb(111\, 114\, 135)\; font-size: 16px\; line-height: 1.5rem\; font-family: &quot\;Neue Plak&quot\;\, -apple-system\, BlinkMacSystemFont\, Roboto\, &quot\;Helvetica Neue&quot\;\, Helvetica\, Tahoma\, Arial\, sans-serif\;"><span style="font-weight: 700\; box-sizing: border-box\; padding-top: 0px\;">Parking</span>: Free parking is available in the Meadowview parking lot.</p>\n\n<p style="margin: 0px\; padding: 10px 0px 0px\; box-sizing: border-box\; color: rgb(111\, 114\, 135)\; font-size: 16px\; line-height: 1.5rem\; font-family: &quot\;Neue Plak&quot\;\, -apple-system\, BlinkMacSystemFont\, Roboto\, &quot\;Helvetica Neue&quot\;\, Helvetica\, Tahoma\, Arial\, sans-serif\;"><span style="font-weight: 700\; box-sizing: border-box\; padding-top: 0px\;">T&#65279\;hank you to our partners and sponsors:</span>&nbsp\;LaunchTN\, First Tennessee Development District (FTDD)\, Sync.Space\, Kingsport Chamber\, City of Kingsport\, KOSBE\, Bristol Chamber of Commerce\, NETWORKS Sullivan Partnership\, Elizabethton Chamber of Commerce\, Greene County Partnership\, Tennessee Small Business Development Center (TSBDC)\, and The Johnson City Chamber of Commerce.</p>\n
LOCATION:MeadowView Conference Resort & Convention Center
UID:e.2564.795687
SEQUENCE:3
DTSTAMP:20260420T013159Z
URL:https://business.bristolchamber.com/events/details/fund-tennessee-northeast-regional-kickoff-meeting-795687
END:VEVENT

END:VCALENDAR
