BEGIN:VCALENDAR
VERSION:2.0
PRODID:-//ChamberMaster//Event Calendar 2.0//EN
METHOD:PUBLISH
X-PUBLISHED-TTL:P3D
REFRESH-INTERVAL:P3D
CALSCALE:GREGORIAN
BEGIN:VEVENT
DTSTART:20220614T133000Z
DTEND:20220615T153000Z
X-MICROSOFT-CDO-ALLDAYEVENT:FALSE
SUMMARY:Free Summer Movies
DESCRIPTION:Free family films every Tuesday and Wednesday at 9:30am starting on Tuesday\, June 7th and running through Wednesday\, July 27th. Free admission for everyone!
X-ALT-DESC;FMTTYPE=text/html:Free family films every Tuesday and Wednesday at 9:30am starting on Tuesday\, June 7th and running through Wednesday\, July 27th. Free admission for everyone!
LOCATION:Marquee Cinemas Pinnacle 12 680 Pinnacle Parkway Bristol\, TN 37620
UID:e.2564.795180
SEQUENCE:3
DTSTAMP:20260420T132655Z
URL:https://business.bristolchamber.com/events/details/free-summer-movies-795180
END:VEVENT

END:VCALENDAR
