BEGIN:VCALENDAR
VERSION:2.0
PRODID:-//ChamberMaster//Event Calendar 2.0//EN
METHOD:PUBLISH
X-PUBLISHED-TTL:P3D
REFRESH-INTERVAL:P3D
CALSCALE:GREGORIAN
BEGIN:VEVENT
DTSTART:20220417T150000Z
DTEND:20220417T190000Z
X-MICROSOFT-CDO-ALLDAYEVENT:FALSE
SUMMARY:FREE photos with the Easter Bunny at Bass Pro Shops
DESCRIPTION:Bass Pro Shops invites families to celebrate Spring by offering free photos with the Easter Bunny. Families who make a free advanced reservation will receive a FREE studio-quality 4x6 color photo. Photo package upgrades will also be available. Bass Pro Shops will also offer free candy for participants\, while supplies last.
X-ALT-DESC;FMTTYPE=text/html:Bass Pro Shops invites families to celebrate Spring by offering free photos with the Easter Bunny. Families who make a free advanced reservation will receive a FREE studio-quality 4x6 color photo. Photo package upgrades will also be available. Bass Pro Shops will also offer free candy for participants\, while supplies last.
LOCATION:Bass Pro Shops 1 Bass Pro Drive Bristol\, TN 37620
UID:e.2564.795151
SEQUENCE:3
DTSTAMP:20260422T121208Z
URL:https://business.bristolchamber.com/events/details/free-photos-with-the-easter-bunny-at-bass-pro-shops-04-17-2022-795151
END:VEVENT

END:VCALENDAR
