BEGIN:VCALENDAR
VERSION:2.0
PRODID:-//ChamberMaster//Event Calendar 2.0//EN
METHOD:PUBLISH
X-PUBLISHED-TTL:P3D
REFRESH-INTERVAL:P3D
CALSCALE:GREGORIAN
BEGIN:VEVENT
DTSTART:20200111T150000Z
DTEND:20200111T170000Z
X-MICROSOFT-CDO-ALLDAYEVENT:FALSE
SUMMARY:FREE Home Buyers Class
DESCRIPTION:Make Buying a Home Your New Year's Resolution\n\nNew Again Houses is offering a FREE home buyer's class!\n\n\n\nIn the FREE Home Buyers Class they will go over all the things you need to know\, from managing your credit and getting approved for a mortgage\, to the details of what happens between contract and close. They'll even help you set up a custom plan so you can work towards buying a home in 2020!\n\n\n\n(Plus\, FREE breakfast is provided!)\n\n\n\nDon't let this tax season trick you into spending all your money on pork rinds and cheap DVDs.\n\n\n\nInvest your refund wisely in a home your family will enjoy for years to come.
X-ALT-DESC;FMTTYPE=text/html:<span style="font-size:18px\;"><strong>Make Buying a Home Your New Year&rsquo\;s Resolution</strong></span><br />\nNew Again Houses is offering a FREE home buyer&rsquo\;s class!<br />\n<br />\nIn the FREE Home Buyers Class they will go over all the things you need to know\, from managing your credit and getting approved for a mortgage\, to the details of what happens between contract and close. They&rsquo\;ll even help you set up a custom plan so you can work towards buying a home in 2020!<br />\n<br />\n(Plus\, FREE breakfast is provided!)<br />\n<br />\nDon&rsquo\;t let this tax season trick you into spending all your money on pork rinds and cheap DVDs.<br />\n<br />\nInvest your refund wisely in a home your family will enjoy for years to come.&nbsp\;
LOCATION:Bristol Public Library 701 Goode Street Bristol\, VA
UID:e.2564.794278
SEQUENCE:3
DTSTAMP:20260420T175038Z
URL:https://business.bristolchamber.com/events/details/free-home-buyers-class-794278
END:VEVENT

END:VCALENDAR
