BEGIN:VCALENDAR
VERSION:2.0
PRODID:-//ChamberMaster//Event Calendar 2.0//EN
METHOD:PUBLISH
X-PUBLISHED-TTL:P3D
REFRESH-INTERVAL:P3D
CALSCALE:GREGORIAN
BEGIN:VEVENT
DTSTART:20230405T123000Z
DTEND:20230405T190000Z
X-MICROSOFT-CDO-ALLDAYEVENT:FALSE
SUMMARY:Free Health Fair
DESCRIPTION:Healing Hands Health Center is hosting a two day Free Health Fair that is open to the public. Everyone is welcome whether you have health insurance or not! Medical appointment participants will receive a boxed lunch and be entered into a raffle to win one of 4 Food City or Kroger gift cards!\n\n \n\nHealth services provided and resources available at the Free Health Fair include Pap Smears\, Mental Health Screenings\, Hearing Tests\, Cholesterol & Blood Sugar Tests\, Lab Tests for thyroid\, diabetes and complete blood count if the provider deems necessary\, Blood Pressure Checks\, Dental Screenings after a Medical Appointment and School & Sports Physicals. Appointments are required and fill up quickly. Call today to schedule your appointment.\n\n \n\nSeveral organizations will be onsite to provide additional community resource information. Sullivan County Health Department will be on hand to provide COVID-19 Vaccines to include Omicron boosters. No appointment is required to receive a COVID-19 vaccine or booster.\n\n \n\nCOVID Vaccine times: Wed. 8:30AM-11:00AM   Thurs. 8:30AM-1:00PM\n\nAppointments are required.  Please call (423) 652-0260 ext.3.
X-ALT-DESC;FMTTYPE=text/html:<span style="font-family:tahoma"><span style="font-size:12px">Healing Hands Health Center is hosting a two day Free Health Fair that is open to the public. Everyone is welcome whether you have health insurance or not!<span style="color:windowtext"> Medical </span>appointment participants will receive a boxed lunch and be entered into a raffle to win one of 4 Food City or Kroger gift cards!<br />\n&nbsp\;<br />\nHealth services provided and resources available at the Free Health Fair include Pap Smears\, Mental Health Screenings\, Hearing Tests\, Cholesterol &amp\; Blood Sugar Tests\, Lab Tests for thyroid\, diabetes and complete blood count if the provider deems necessary\, Blood Pressure Checks\, Dental Screenings after a Medical Appointment and School &amp\; Sports Physicals. Appointments are required and fill up quickly. <span style="font-size:14px"><strong>Call today to schedule your appointment.</strong></span><br />\n&nbsp\;<br />\nSeveral organizations will be onsite to provide additional community resource information. Sullivan County Health Department will be on hand to provide COVID-19 Vaccines to include Omicron boosters. No appointment is required to receive a COVID-19 vaccine or booster.<br />\n&nbsp\;<br />\nCOVID Vaccine times: Wed. 8:30AM-11:00AM&nbsp\;&nbsp\; Thurs. 8:30AM-1:00PM<br />\n<span style="font-size:14px"><strong><span style="color:windowtext">Appointments are required.&nbsp\; Please call (423) 652-0260 ext.3.&nbsp\;&nbsp\;</span></strong></span></span></span>
LOCATION:Healing Hands Health Center 245 Midway Medical Park Bristol\, TN 37620
UID:e.2564.795852
SEQUENCE:3
DTSTAMP:20260419T235939Z
URL:https://business.bristolchamber.com/events/details/free-health-fair-795852
END:VEVENT

END:VCALENDAR
