BEGIN:VCALENDAR
VERSION:2.0
PRODID:-//ChamberMaster//Event Calendar 2.0//EN
METHOD:PUBLISH
X-PUBLISHED-TTL:P3D
REFRESH-INTERVAL:P3D
CALSCALE:GREGORIAN
BEGIN:VEVENT
DTSTART;VALUE=DATE:20230831
DTEND;VALUE=DATE:20230902
TRANSP:TRANSPARENT
X-MICROSOFT-CDO-ALLDAYEVENT:TRUE
SUMMARY:Free Health Fair
DESCRIPTION:Healing Hands Health is hosting a Free Health Fair on Thursday\, August 31st and Friday\, September 1st at 245 Midway Medical Park\, Bristol\, TN in partnership with ETSU Quillen College of Medicine\, Rural and Community Programs.\n\nThe two day Free Health Fair is open to the public. Everyone is welcome whether you have health insurance or not! There will be giveaway opportunities\, resource vendors and attendees will receive a complimentary meal!\n\n \n\nHealth services provided and resources available at the Free Health Fair include Pap Smears\, Chest X-rays\, Mental Health Screenings\, Cholesterol & Blood Sugar Tests\, Lab Tests/Blood Work\, Blood Pressure Checks\, School & Sports Physicals.\n\n \n\nHealth Hero will be onsite to provide COVID-19\, Flu and other vaccines and boosters and staff will be available to sign up new Healing Hands' patients.\n\n \n\nAppointments are required and fill up quickly. Call today to schedule your appointment (423) 652-0260 ext.3.  The clinic is located down the street from Kroger at 245 Midway Medical Park Bristol\, TN.
X-ALT-DESC;FMTTYPE=text/html:<span style="font-size:14px"><span style="font-family:times new roman"><span style="color:windowtext">Healing Hands Health is hosting a Free Health Fair on Thursday\, August 31st and Friday\, September 1st at 245 Midway Medical Park\, Bristol\, TN in partnership with ETSU Quillen College of Medicine\, Rural and Community Programs.</span><br />\nThe two day Free Health Fair is open to the public. Everyone is welcome whether you have health insurance or not!<span style="color:windowtext"> There will be giveaway opportunities\, resource vendors and attendees will receive a</span> complimentary meal!<br />\n&nbsp\;<br />\nHealth services provided and resources available at the Free Health Fair include Pap Smears\, Chest X-rays\, Mental Health Screenings\, Cholesterol &amp\; Blood Sugar Tests\, Lab Tests/Blood Work\, Blood Pressure Checks\, School &amp\; Sports Physicals.<br />\n&nbsp\;<br />\nHealth Hero will be onsite to provide COVID-19\, Flu and other vaccines and boosters and staff will be available to sign up new Healing Hands&rsquo\; patients.<br />\n&nbsp\;<br />\nAppointments are required and fill up quickly. Call today to schedule your appointment<span style="color:windowtext"> (423) 652-0260 ext.3.&nbsp\; The clinic is located down the street from Kroger at 245 Midway Medical Park Bristol\, TN.</span></span></span>
LOCATION:245 Midway Medical Park Bristol\, Tennessee
UID:e.2564.796021
SEQUENCE:3
DTSTAMP:20260419T170705Z
URL:https://business.bristolchamber.com/events/details/free-health-fair-08-31-2023-796021
END:VEVENT

END:VCALENDAR
