BEGIN:VCALENDAR
VERSION:2.0
PRODID:-//ChamberMaster//Event Calendar 2.0//EN
METHOD:PUBLISH
X-PUBLISHED-TTL:P3D
REFRESH-INTERVAL:P3D
CALSCALE:GREGORIAN
BEGIN:VEVENT
DTSTART:20220720T130000Z
DTEND:20220720T150000Z
X-MICROSOFT-CDO-ALLDAYEVENT:FALSE
SUMMARY:First Stop to Building Credit at First Horizon
DESCRIPTION:FIRST STOP TO BUILDING CREDIT AT FIRST HORIZON\n\n\n\nDrop by to talk to our Manager\, Relationship Bankers and Operation Hope partners about ways to improve your credit score!\n\n \n\n\n	Learn about credit factors\n	What drives the credit score?\n	Get tips to give your score a boost\n\n\nEnter to win a $50 gift card!\n\nBreakfast and snacks will be served.
X-ALT-DESC;FMTTYPE=text/html:<div style="text-align: center\;"><span style="font-size:18px\;"><strong>FIRST STOP TO BUILDING CREDIT AT FIRST HORIZON</strong></span><br />\n<br />\nDrop by to talk to our Manager\, Relationship Bankers and Operation Hope partners about ways to improve your credit score!<br />\n&nbsp\;</div>\n\n<ul>\n	<li>Learn about credit factors</li>\n	<li>What drives the credit score?</li>\n	<li>Get tips to give your score a boost</li>\n</ul>\n\n<div style="text-align: center\;">Enter to win a $50 gift card!<br />\nBreakfast and snacks will be served.</div>\n
LOCATION:First Horizon Bank 800 State Street Bristol\, TN 37620
UID:e.2564.795248
SEQUENCE:3
DTSTAMP:20260420T114535Z
URL:https://business.bristolchamber.com/events/details/first-stop-to-building-credit-at-first-horizon-795248
END:VEVENT

END:VCALENDAR
