BEGIN:VCALENDAR
VERSION:2.0
PRODID:-//ChamberMaster//Event Calendar 2.0//EN
METHOD:PUBLISH
X-PUBLISHED-TTL:P3D
REFRESH-INTERVAL:P3D
CALSCALE:GREGORIAN
BEGIN:VEVENT
DTSTART:20191206T230000Z
DTEND:20191207T010000Z
X-MICROSOFT-CDO-ALLDAYEVENT:FALSE
SUMMARY:First Fridays: Art D'Vine
DESCRIPTION:Cost: FREE! ($5 Donation Appreciated)\n\nParticipants are invited to stroll around Historic Downtown Bristol\, stopping and enjoying all that our downtown has to off er! Refreshments will be provided and many of the galleries will feature different varieties of wine for sampling. Those who complete their passport and visit each stop will be entered into a raffle to win a prize!\n\nThis event is free to the public\, though there is a suggested one-time donation of $5 with the proceeds supporting the work of the Arts & Entertainment District of Historic Downtown Bristol\, TN/VA.
X-ALT-DESC;FMTTYPE=text/html:<p style="margin: 0px 0px 20px\; padding: 0px\; border: none\; outline: none\; box-sizing: border-box\; font-family: &quot\;Crimson Text&quot\;\, Georgia\, serif\; font-size: 14px\;">Cost: FREE! ($5 Donation Appreciated)</p>\n\n<p style="margin: 0px 0px 20px\; padding: 0px\; border: none\; outline: none\; box-sizing: border-box\; font-family: &quot\;Crimson Text&quot\;\, Georgia\, serif\; font-size: 14px\;">Participants are invited to stroll around Historic Downtown Bristol\, stopping and enjoying all that our downtown has to off er! Refreshments will be provided and many of the galleries will feature different varieties of wine for sampling. Those who complete their passport and visit each stop will be entered into a raffle to win a prize!</p>\n\n<p style="margin: 0px\; padding: 0px\; border: none\; outline: none\; box-sizing: border-box\; font-family: &quot\;Crimson Text&quot\;\, Georgia\, serif\; font-size: 14px\;">This event is free to the public\, though there is a suggested one-time donation of $5 with the proceeds supporting the work of the Arts &amp\; Entertainment District of Historic Downtown Bristol\, TN/VA.</p>\n
LOCATION:Downtown Bristol
UID:e.2564.794198
SEQUENCE:3
DTSTAMP:20260420T224455Z
URL:https://business.bristolchamber.com/events/details/first-fridays-art-d-vine-794198
END:VEVENT

END:VCALENDAR
