BEGIN:VCALENDAR
VERSION:2.0
PRODID:-//ChamberMaster//Event Calendar 2.0//EN
METHOD:PUBLISH
X-PUBLISHED-TTL:P3D
REFRESH-INTERVAL:P3D
CALSCALE:GREGORIAN
BEGIN:VEVENT
DTSTART:20200430T160000Z
DTEND:20200630T160000Z
X-MICROSOFT-CDO-ALLDAYEVENT:FALSE
SUMMARY:Fees Waived for 10 Online Continuing Education Courses
DESCRIPTION:Workforce Solutions at Northeast State Community College is waiving course fees for the following 10 online continuing education courses until June 30\, 2020: - Creating Web Pages - Creating WordPress Websites - Fundamentals of Supervision and Management - Twelve Steps to a Successful Job Search - Keys to Effective Communication - Managing Customer Service - Marketing Your Business on the Internet - Personal Finance - Small Business Marketing on a Shoestring - Individual Excellence
X-ALT-DESC;FMTTYPE=text/html:Workforce Solutions at Northeast State Community College is waiving course fees for the following 10 online continuing education courses until June 30\, 2020: - Creating Web Pages - Creating WordPress Websites - Fundamentals of Supervision and Management - Twelve Steps to a Successful Job Search - Keys to Effective Communication - Managing Customer Service - Marketing Your Business on the Internet - Personal Finance - Small Business Marketing on a Shoestring - Individual Excellence
LOCATION:On line
UID:e.2564.794407
SEQUENCE:3
DTSTAMP:20260421T232959Z
URL:https://business.bristolchamber.com/events/details/fees-waived-for-10-online-continuing-education-courses-794407
END:VEVENT

END:VCALENDAR
