BEGIN:VCALENDAR
VERSION:2.0
PRODID:-//ChamberMaster//Event Calendar 2.0//EN
METHOD:PUBLISH
X-PUBLISHED-TTL:P3D
REFRESH-INTERVAL:P3D
CALSCALE:GREGORIAN
BEGIN:VEVENT
DTSTART:20190919T220000Z
DTEND:20190920T010000Z
X-MICROSOFT-CDO-ALLDAYEVENT:FALSE
SUMMARY:Farmer and Chef - Food Tasting Fundraiser
DESCRIPTION:Join us on September 19 for your chance to taste some of the most delicious food our area has to offer! The Farmer & Chef pairs local chefs with local farmers to provide a unique culinary experience. Chefs create their signature dishes from fresh produce grown locally\, and you have an opportunity to taste these one of a kind creations. Second Harvest Food Bank of Northeast Tennessee annually organizes this distinctive event as a part of our fundraising efforts\, and we have incorporated it into our Hunger Action Month activities which take place throughout the entire month of September. You are invited to help Second Harvest Food Bank of Northeast Tennessee feed the hungry by participating in the Farmer & Chef! Reserve your ticket by September 11th by contacting our Development Office at (423) 279-0430 or development@netfoodbank.org
X-ALT-DESC;FMTTYPE=text/html:Join us on September 19 for your chance to taste some of the most delicious food our area has to offer! The Farmer &amp\; Chef pairs local chefs with local farmers to provide a unique culinary experience. Chefs create their signature dishes from fresh produce grown locally\, and you have an opportunity to taste these one of a kind creations. Second Harvest Food Bank of Northeast Tennessee annually organizes this distinctive event as a part of our fundraising efforts\, and we have incorporated it into our Hunger Action Month activities which take place throughout the entire month of September. You are invited to help Second Harvest Food Bank of Northeast Tennessee feed the hungry by participating in the Farmer &amp\; Chef! Reserve your ticket by September 11th by contacting our Development Office at (423) 279-0430 or development@netfoodbank.org
LOCATION:Blackthorn Club 1501 Ridges Club Drive Jonesborough\, TN 37659
UID:e.2564.792051
SEQUENCE:3
DTSTAMP:20260424T083746Z
URL:https://business.bristolchamber.com/events/details/farmer-and-chef-food-tasting-fundraiser-792051
END:VEVENT

END:VCALENDAR
