BEGIN:VCALENDAR
VERSION:2.0
PRODID:-//ChamberMaster//Event Calendar 2.0//EN
METHOD:PUBLISH
X-PUBLISHED-TTL:P3D
REFRESH-INTERVAL:P3D
CALSCALE:GREGORIAN
BEGIN:VEVENT
DTSTART:20211113T230000Z
DTEND:20211114T030000Z
X-MICROSOFT-CDO-ALLDAYEVENT:FALSE
SUMMARY:Eunoia A Well Mind Concert
DESCRIPTION:Frontier Health Foundation and Bank of Tennessee\n\nPRESENTS...RAIN OR SHINE!!!\n\neuNoia...A Well Mind Concert \n\nNovember 13th at 6:00PM at Cumberland Square Park in Historic Downtown Bristol\, VA.!\n\nChildren 12 & Under FREE!\n\nGATES OPEN @4 PM!\n\n\n\nDrew Holcomb & The Neighbors\n\nTheir newest album Dragons debuted at #1 Billboard Americana/Folk Albums\, #1 Amazon New Albums\, and #1 iTunes Singer Songwriter Chart and led to a career spanning feature in which Rolling Stone declared Holcomb as "One of Americana's Most Popular Stars."\n\nSpecial Guest 49 Winchester!\n\nFrom Russell County\, VA. 49 Winchester delivers the poetically straightforward songs of singer/guitarist Isaac Gibson in a soulful electric live show. The band brings their rock & roll roots planted firmly in the traditions of mountain music!
X-ALT-DESC;FMTTYPE=text/html:<div>\n<h1>Frontier Health Foundation and Bank of Tennessee<br />\nPRESENTS...RAIN OR SHINE!!!</h1>\n\n<h1>euNoia...A Well Mind Concert&nbsp\;<br />\nNovember 13th at 6:00PM at Cumberland Square Park in Historic Downtown Bristol\, VA.!<br />\nChildren 12 &amp\; Under FREE!</h1>\n\n<h2>GATES OPEN @4 PM!</h2>\n</div>\n\n<div>\n<h1>Drew Holcomb &amp\; The Neighbors</h1>\n\n<h3>Their newest album&nbsp\;<strong>Dragons</strong>&nbsp\;debuted at #1 Billboard Americana/Folk Albums\, #1 Amazon New Albums\, and #1 iTunes Singer Songwriter Chart and led to a career spanning feature in which&nbsp\;<strong>Rolling Stone</strong>&nbsp\;declared Holcomb as&nbsp\;<strong>&ldquo\;One of Americana&rsquo\;s Most Popular Stars.&rdquo\;</strong></h3>\n\n<h2>Special Guest 49 Winchester!</h2>\n\n<h3>From&nbsp\;<strong>Russell County\, VA. 49 Winchester</strong>&nbsp\;delivers the poetically straightforward songs of singer/guitarist Isaac Gibson in a soulful electric live show. The band brings their rock &amp\; roll roots planted firmly in the traditions of mountain music!</h3>\n</div>\n
LOCATION:Cumberland Square Park 200 Lee Street Bristol\, VA 24201
UID:e.2564.794973
SEQUENCE:3
DTSTAMP:20260422T205834Z
URL:https://business.bristolchamber.com/events/details/eunoia-a-well-mind-concert-794973
END:VEVENT

END:VCALENDAR
