BEGIN:VCALENDAR
VERSION:2.0
PRODID:-//ChamberMaster//Event Calendar 2.0//EN
METHOD:PUBLISH
X-PUBLISHED-TTL:P3D
REFRESH-INTERVAL:P3D
CALSCALE:GREGORIAN
BEGIN:VEVENT
DTSTART:20231107T000000Z
DTEND:20231107T010000Z
X-MICROSOFT-CDO-ALLDAYEVENT:FALSE
SUMMARY:Esau McCaulley - 2023 Frederick Buechner Lecture
DESCRIPTION:Esau McCaulley is a New York Times Columnist and Professor at Wheaton College.
X-ALT-DESC;FMTTYPE=text/html:Esau McCaulley is a New York Times Columnist and Professor at Wheaton College.
LOCATION:First Presbyterian Church\, Bristol\, Tenn.
UID:e.2564.796090
SEQUENCE:3
DTSTAMP:20260419T140921Z
URL:https://business.bristolchamber.com/events/details/esau-mccaulley-2023-frederick-buechner-lecture-796090
END:VEVENT

END:VCALENDAR
