BEGIN:VCALENDAR
VERSION:2.0
PRODID:-//ChamberMaster//Event Calendar 2.0//EN
METHOD:PUBLISH
X-PUBLISHED-TTL:P3D
REFRESH-INTERVAL:P3D
CALSCALE:GREGORIAN
BEGIN:VEVENT
DTSTART:20190202T003000Z
DTEND:20190202T023000Z
X-MICROSOFT-CDO-ALLDAYEVENT:FALSE
SUMMARY:Emory & Henry College’s McGlothlin Center for the Arts presents Seraph Brass
DESCRIPTION:Emory & Henry College's McGlothlin Center for the Arts presents Seraph Brass\, Feb. 1\, at 7:30 p.m.\, in the Kennedy~Reedy Theatre. This dynamic brass ensemble draws from a roster of America's top female brass players. Tickets\, $25. Box Office: 276-944-6333\, www.ehc.edu/McGlothlinCenter. Also visit the art exhibit upstairs in the Center now hosting Adam Yungbluth\, emerging ceramic artist\, from Jan. 15-Feb. 9. He will give an Artalk Jan. 28 at 7:30. Exhibit and Artalk are free and open to the public.
X-ALT-DESC;FMTTYPE=text/html:<span style="font-family:helvetica neue\;">Emory &amp\; Henry College&rsquo\;s McGlothlin Center for the Arts presents Seraph Brass\, Feb. 1\, at 7:30 p.m.\, in the Kennedy~Reedy Theatre. This dynamic brass ensemble draws from a roster of America&rsquo\;s top female brass players. Tickets\, $25. Box Office: 276-944-6333\, <a href="http://www.ehc.edu/McGlothlinCenter">www.ehc.edu/McGlothlinCenter</a>. Also visit the art exhibit upstairs in the Center now hosting Adam Yungbluth\, emerging ceramic artist\, from Jan. 15-Feb. 9. He will give an Artalk Jan. 28 at 7:30. Exhibit and Artalk are free and open to the public. </span>
LOCATION:Emory & Henry College's McGlothlin Center for the Arts in the Kennedy-Reedy Theatre
UID:e.2564.791885
SEQUENCE:3
DTSTAMP:20260424T191518Z
URL:https://business.bristolchamber.com/events/details/emory-henry-college-s-mcglothlin-center-for-the-arts-presents-seraph-brass-791885
END:VEVENT

END:VCALENDAR
