BEGIN:VCALENDAR
VERSION:2.0
PRODID:-//ChamberMaster//Event Calendar 2.0//EN
METHOD:PUBLISH
X-PUBLISHED-TTL:P3D
REFRESH-INTERVAL:P3D
CALSCALE:GREGORIAN
BEGIN:VEVENT
DTSTART:20201007T160000Z
DTEND:20201007T170000Z
X-MICROSOFT-CDO-ALLDAYEVENT:FALSE
SUMMARY:EMERGE Women's Professional Webinar
DESCRIPTION:Untapped Potential: Transforming Our Stories October 7\, 2020   12pm-1pm Registration: $35 Virtual Training Session With Ashley Cox Ashley Cox\, PHR\, SHRM-CP\, is a leadership mentor for women\, author\, educator\, and speaker with over 13 years of experience in leadership and human resources. She enjoys helping women learn how to leverage their natural strengths in order to lead their teams in a way that feels good and gets amazing results. Ashley is the author of the new book Transform Your Stories\, where she helps you identify and overcome the toxic stories that are holding you back\, so you can become a more confident and courageous leader and impact the world. Presentation Talking Points: Women in the Workplace A look at when women entered the workplace. How our roles have changed/evolved over the years. Current demographic statistics - there's still work to do. Our Untapped Potential Uncovering what's still possible + the opportunities we have as women. What's holding us back from reaching our full potential. Introduction to toxic stories + the mindset shift we must make. Transforming Our Stories Guided conversation on how to overcome + transform our stories. Time for reflection + journaling activity. Call to Action: Commit to what you're going to do to tap into your potential. On a personal note\, Ashley is a strong advocate for community involvement. She is an active member of the local entrepreneurial network and a member of Junior Board of Directors for the YWCA of Northeast TN and Southwest VA. She loves reading\, being active outdoors\, traveling with her husband\, Mike\, and spending time with her rescue pup\, Myla.
X-ALT-DESC;FMTTYPE=text/html:Untapped Potential: Transforming Our Stories October 7\, 2020 &bull\; 12pm-1pm Registration: $35 Virtual Training Session With Ashley Cox Ashley Cox\, PHR\, SHRM-CP\, is a leadership mentor for women\, author\, educator\, and speaker with over 13 years of experience in leadership and human resources. She enjoys helping women learn how to leverage their natural strengths in order to lead their teams in a way that feels good and gets amazing results. Ashley is the author of the new book Transform Your Stories\, where she helps you identify and overcome the toxic stories that are holding you back\, so you can become a more confident and courageous leader and impact the world. Presentation Talking Points: Women in the Workplace A look at when women entered the workplace. How our roles have changed/evolved over the years. Current demographic statistics - there&#39\;s still work to do. Our Untapped Potential Uncovering what&#39\;s still possible + the opportunities we have as women. What&#39\;s holding us back from reaching our full potential. Introduction to toxic stories + the mindset shift we must make. Transforming Our Stories Guided conversation on how to overcome + transform our stories. Time for reflection + journaling activity. Call to Action: Commit to what you&#39\;re going to do to tap into your potential. On a personal note\, Ashley is a strong advocate for community involvement. She is an active member of the local entrepreneurial network and a member of Junior Board of Directors for the YWCA of Northeast TN and Southwest VA. She loves reading\, being active outdoors\, traveling with her husband\, Mike\, and spending time with her rescue pup\, Myla.
LOCATION:Virtual Webinar Training
UID:e.2564.794493
SEQUENCE:3
DTSTAMP:20260423T144742Z
URL:https://business.bristolchamber.com/events/details/emerge-women-s-professional-webinar-794493
END:VEVENT

END:VCALENDAR
