BEGIN:VCALENDAR
VERSION:2.0
PRODID:-//ChamberMaster//Event Calendar 2.0//EN
METHOD:PUBLISH
X-PUBLISHED-TTL:P3D
REFRESH-INTERVAL:P3D
CALSCALE:GREGORIAN
BEGIN:VEVENT
DTSTART:20190221T233000Z
DTEND:20190222T020000Z
X-MICROSOFT-CDO-ALLDAYEVENT:FALSE
SUMMARY:Eastman Black History Month Community Event
DESCRIPTION:'Black Angels Over Tuskegee Play' An Off-Broadway and award-winning\, historical docu-drama is a narrative of six men embarking upon a journey to become the first aviators in the United States Army Air Forces during a tumultuous era of racial segregation and Jim Crow idealism in twentieth century American history.
X-ALT-DESC;FMTTYPE=text/html:&#39\;Black Angels Over Tuskegee Play&#39\; An Off-Broadway and award-winning\, historical docu-drama is a narrative of six men embarking upon a journey to become the first aviators in the United States Army Air Forces during a tumultuous era of racial segregation and Jim Crow idealism in twentieth century American history.
LOCATION:Toy F. Reid Employee Center (400 S. Wilcox Dr.\, Kingsport)
UID:e.2564.791825
SEQUENCE:3
DTSTAMP:20260424T191535Z
URL:https://business.bristolchamber.com/events/details/eastman-black-history-month-community-event-02-21-2019-791825
END:VEVENT

END:VCALENDAR
