BEGIN:VCALENDAR
VERSION:2.0
PRODID:-//ChamberMaster//Event Calendar 2.0//EN
METHOD:PUBLISH
X-PUBLISHED-TTL:P3D
REFRESH-INTERVAL:P3D
CALSCALE:GREGORIAN
BEGIN:VEVENT
DTSTART:20231120T223000Z
DTEND:20231121T013000Z
X-MICROSOFT-CDO-ALLDAYEVENT:FALSE
SUMMARY:Downtown Christmas Open Houe
DESCRIPTION:It's the most wonderful time of the year in Historic Downtown\n\nBristol as Believe in Bristol welcomes the holiday season with the Annual Christmas Open House on Monday\, November 20\, 2023\, from 5:30   8:30 pm.\n\n \n\nCome kick off the holiday season with merriment and good cheer! The Open House has traditionally been a customer appreciation night when merchants stay open late\, have special discounts\, and refreshments are served at participating locations. Join us and support your downtown shops\; it's a great way to stimulate our local economy and find special one-of-a-kind gifts for everyone on your holiday list. Don't miss an evening planned for the entire family's enjoyment!\n\n \n\nSanta Claus will be making an appearance on State Street and Bristol Ballet will have dancers in costume at the Bristol Public Library. Be sure to keep a lookout for your favorite decorated window as the downtown\n\nmerchants will be participating in the Merry Merchants Window Decorating Contest with the theme: A Downtown Bristol Classic Christmas.\n\n \n\nA holiday favorite will once again return to State Street   Horse and Carriage Rides! Come to the Downtown Center (Farmer's Market) to catch your ride through downtown\, $10 per person\, children 10 and under are $5\, and children 3 and under are free.
X-ALT-DESC;FMTTYPE=text/html:<span style="font-family:cambria\,serif\;"><span style="font-size:10.0pt\;">It&rsquo\;s the most wonderful time of the year in Historic Downtown</span></span><br />\n<span style="font-family:cambria\,serif\;"><span style="font-size:10.0pt\;">Bristol as Believe in Bristol welcomes the holiday season with the Annual Christmas Open House on&nbsp\;</span></span><span style="font-family:cambria\,serif\;"><span style="font-size:10.0pt\;">Monday\, November 20\, 2023\, from 5:30 &ndash\; 8:30 pm.</span></span><br />\n&nbsp\;<br />\n<span style="font-family:cambria\,serif\;"><span style="font-size:10.0pt\;">Come kick off the holiday season with merriment and good cheer! The Open House has traditionally been&nbsp\;</span></span><span style="font-family:cambria\,serif\;"><span style="font-size:10.0pt\;">a customer appreciation night when merchants stay open late\, have special discounts\, and refreshments&nbsp\;</span></span><span style="font-family:cambria\,serif\;"><span style="font-size:10.0pt\;">are served at participating locations. Join us and support your downtown shops\; it&rsquo\;s a great way to&nbsp\;</span></span><span style="font-family:cambria\,serif\;"><span style="font-size:10.0pt\;">stimulate our local economy and find special one-of-a-kind gifts for everyone on your holiday list. Don&rsquo\;t&nbsp\;</span></span><span style="font-family:cambria\,serif\;"><span style="font-size:10.0pt\;">miss an evening planned for the entire family&rsquo\;s enjoyment!</span></span><br />\n&nbsp\;<br />\n<span style="font-family:cambria\,serif\;"><span style="font-size:10.0pt\;">Santa Claus will be making an appearance on State Street and Bristol Ballet will have dancers in costume at the Bristol Public Library. Be sure to keep a lookout for your favorite decorated window as the downtown</span></span><br />\n<span style="font-family:cambria\,serif\;"><span style="font-size:10.0pt\;">merchants will be participating in the Merry Merchants Window Decorating Contest with the theme:&nbsp\;</span></span><span style="font-family:cambria\,serif\;"><span style="font-size:10.0pt\;">A Downtown Bristol Classic Christmas.</span></span><br />\n&nbsp\;<br />\n<span style="font-family:cambria\,serif\;"><span style="font-size:10.0pt\;">A holiday favorite will once again return to State Street &mdash\; Horse and Carriage Rides! Come to the&nbsp\;</span></span><span style="font-family:cambria\,serif\;"><span style="font-size:10.0pt\;">Downtown Center (Farmer&rsquo\;s Market) to catch your ride through downtown\, $10 per person\, children 10 and under are $5\, and children 3 and under are free. </span></span>
LOCATION:Historic Downtown Bristol TN/VA
UID:e.2564.796106
SEQUENCE:3
DTSTAMP:20260419T130033Z
URL:https://business.bristolchamber.com/events/details/downtown-christmas-open-houe-796106
END:VEVENT

END:VCALENDAR
