BEGIN:VCALENDAR
VERSION:2.0
PRODID:-//ChamberMaster//Event Calendar 2.0//EN
METHOD:PUBLISH
X-PUBLISHED-TTL:P3D
REFRESH-INTERVAL:P3D
CALSCALE:GREGORIAN
BEGIN:VEVENT
DTSTART:20190316T180000Z
DTEND:20190316T200000Z
X-MICROSOFT-CDO-ALLDAYEVENT:FALSE
SUMMARY:Dominion's St. Patrick's Day Party!
DESCRIPTION:You and your family are invited to eat\, drink and be Irish!\n\nJoin Dominion Senior Living for a St. Patrick's Day celebration!
X-ALT-DESC;FMTTYPE=text/html:You and your family are invited to eat\, drink and be Irish!<br />\nJoin Dominion Senior Living for a St. Patrick&#39\;s Day celebration!
LOCATION:Dominion Senior Living of Bristol 425 Shelby Lane Bristol\, TN 37620
UID:e.2564.791935
SEQUENCE:3
DTSTAMP:20260421T013431Z
URL:https://business.bristolchamber.com/events/details/dominion-s-st-patrick-s-day-party-791935
END:VEVENT

END:VCALENDAR
