BEGIN:VCALENDAR
VERSION:2.0
PRODID:-//ChamberMaster//Event Calendar 2.0//EN
METHOD:PUBLISH
X-PUBLISHED-TTL:P3D
REFRESH-INTERVAL:P3D
CALSCALE:GREGORIAN
BEGIN:VEVENT
DTSTART:20231111T160000Z
DTEND:20231111T200000Z
X-MICROSOFT-CDO-ALLDAYEVENT:FALSE
SUMMARY:Distribution Day - Coats for Kids
DESCRIPTION:Anyone with a child present or identification for a child may receive a coat. Attendees will receive free admission to the Women's Basketball game at 2 p.m. in the Student Center Complex.
X-ALT-DESC;FMTTYPE=text/html:Anyone with a child present or identification for a child may receive a coat. Attendees will receive free admission to the Women&#39\;s Basketball game at 2 p.m. in the Student Center Complex.
LOCATION:King University - Maclellan Hall 1350 King College Rd. Bristol\, Tenn.
UID:e.2564.796091
SEQUENCE:3
DTSTAMP:20260419T142841Z
URL:https://business.bristolchamber.com/events/details/distribution-day-coats-for-kids-796091
END:VEVENT

END:VCALENDAR
