BEGIN:VCALENDAR
VERSION:2.0
PRODID:-//ChamberMaster//Event Calendar 2.0//EN
METHOD:PUBLISH
X-PUBLISHED-TTL:P3D
REFRESH-INTERVAL:P3D
CALSCALE:GREGORIAN
BEGIN:VEVENT
DTSTART:20220625T180000Z
DTEND:20220625T220000Z
X-MICROSOFT-CDO-ALLDAYEVENT:FALSE
SUMMARY:Discover Bristol Wing Walk
DESCRIPTION:Discover Bristol is hosting the inaugural Bristol Wing Walk event on Saturday\, June 25\, from 2-6 PM.\n\n\n\nJoin us to sample signature and unique wing flavors from six Bristol restaurants and help decide who has the best wings in Bristol.\n\n\n\nParticipants will go from stop to stop\, enjoy two wings from each of the six restaurants\, and then vote for the People's Choice Award.  A celebrity panel of judges will decide the winner of the Best Overall Award.  The People's Choice and Best Overall award winners will be announced at State Street Brewing Company following the event.
X-ALT-DESC;FMTTYPE=text/html:<span style="color: rgb(51\, 51\, 51)\; font-family: sans-serif\, Arial\, Verdana\, &quot\;Trebuchet MS&quot\;\; font-size: 13px\; background-color: rgb(255\, 255\, 255)\;">Discover Bristol is hosting the inaugural Bristol Wing Walk event on Saturday\, June 25\, from 2-6 PM.<br />\n<br />\nJoin us to sample signature and unique wing flavors from six Bristol restaurants and help decide who has the best wings in Bristol.<br />\n<br />\nParticipants will go from stop to stop\, enjoy two wings from each of the six restaurants\, and then vote for the People&#39\;s Choice Award.&nbsp\; A celebrity panel of judges will decide the winner of the Best Overall Award.&nbsp\; The People&#39\;s Choice and Best Overall award winners will be announced at State Street Brewing Company following the event.</span>
LOCATION:Participants will check-in and show proof of registration at Cascade Draft House (828 State Street\, Bristol\, TN 37620) where they will receive their punch card and voting card prior to beginning their Wing Walk. From there\, participants will complete their Wing Walk in any order they choose. Participants will sample wings from the following six restaurants in Bristol's Historic Downtown District: Bristol Gardens & Grill (located at Cascade Draft House) Delta Blues Lumac at The Bristol Hotel Michael Waltrip Brewing Stateline Bar & Grille The Corner The Bristol Wing Walk will conclude at State Street Brewing Company where award winners will be announced after 6 PM.
UID:e.2564.795159
SEQUENCE:3
DTSTAMP:20260422T085852Z
URL:https://business.bristolchamber.com/events/details/discover-bristol-wing-walk-795159
END:VEVENT

END:VCALENDAR
