BEGIN:VCALENDAR
VERSION:2.0
PRODID:-//ChamberMaster//Event Calendar 2.0//EN
METHOD:PUBLISH
X-PUBLISHED-TTL:P3D
REFRESH-INTERVAL:P3D
CALSCALE:GREGORIAN
BEGIN:VEVENT
DTSTART:20200121T133000Z
DTEND:20200122T023000Z
X-MICROSOFT-CDO-ALLDAYEVENT:FALSE
SUMMARY:Discover Bristol Board Meeting
DESCRIPTION:
X-ALT-DESC;FMTTYPE=text/html:
LOCATION:Bristol Chamber Boardroom
UID:e.2564.794297
SEQUENCE:3
DTSTAMP:20260421T042342Z
URL:https://business.bristolchamber.com/events/details/discover-bristol-board-meeting-794297
END:VEVENT

END:VCALENDAR
