BEGIN:VCALENDAR
VERSION:2.0
PRODID:-//ChamberMaster//Event Calendar 2.0//EN
METHOD:PUBLISH
X-PUBLISHED-TTL:P3D
REFRESH-INTERVAL:P3D
CALSCALE:GREGORIAN
BEGIN:VEVENT
DTSTART:20201028T180000Z
DTEND:20201028T190000Z
X-MICROSOFT-CDO-ALLDAYEVENT:FALSE
SUMMARY:Cyber-YOU: Project Spectrum’s CMMC Preparedness Training (Level I)
DESCRIPTION:FREE - TRAINING\n\nThe Procurement Technical Assistance Center for Southwest Virginia has the following Training Opportunities available in October.  \n\nCyber-YOU: Project Spectrum's CMMC Preparedness Training (Level I)  \n\n       (Cybersecurity Maturity Model (CMMC)     \n\n       October 28\, 2020\, 2:00 PM   3:00 PM ET.\n\n       Presenter   Project Spectrum - Project Spectrum is the latest tool in America's cybersecurity portfolio and is a Department of Defense-sponsored initiative. \n\n      \n\n       Project Spectrum has developed online multimedia training for organizations that comprise the front line of cyber defense across the United States. The first 45-minute interactive training covers seven of the notional CMMC domains\, such as Access Control\, Physical Protection\, and System/Communications Protection. This training emphasizes how to guard against low-tech penetration methods\, such as tailgating\, badge copying\, and USB dropping\, through continuous monitoring\, training\, and vigilance.\n\n \n\nRegister: https://attendee.gotowebinar.com/register/424747249191574544
X-ALT-DESC;FMTTYPE=text/html:<strong><em><u><span style="color:red\;"><span style="font-size:24.0pt\;">FREE</span></span></u></em></strong><strong><em><u><span style="font-size:24.0pt\;"> - TRAINING</span></u></em></strong><br />\n<span style="font-size:14.0pt\;">The Procurement Technical Assistance Center for Southwest Virginia has the following Training Opportunities available in October.&nbsp\; </span><br />\n<strong><span style="background:white\;"><span style="color:#333333\;"><span style="font-size:14.0pt\;">Cyber-YOU: Project Spectrum&rsquo\;s CMMC Preparedness Training (Level I) &nbsp\;</span></span></span></strong><br />\n<strong><span style="background:white\;"><span style="color:#333333\;"><span style="font-size:14.0pt\;">&nbsp\;&nbsp\;&nbsp\;&nbsp\;&nbsp\;&nbsp\; (</span></span></span></strong><strong><span style="background:white\;"><span style="color:black\;"><span style="font-size:14.0pt\;">Cybersecurity Maturity Model (CMMC)</span></span></span></strong>&nbsp\;&nbsp\;&nbsp\;&nbsp\;&nbsp\;<br />\n<span style="font-size:14.0pt\;">&nbsp\;&nbsp\;&nbsp\;&nbsp\;&nbsp\;&nbsp\; October 28\, 2020\, 2:00 PM &ndash\; 3:00 PM ET.</span><br />\n<span style="font-size:14.0pt\;">&nbsp\;&nbsp\;&nbsp\;&nbsp\;&nbsp\; &nbsp\;Presenter &ndash\; <strong>Project Spectrum</strong> - <span style="color:black\;">Project Spectrum is the latest tool in America&rsquo\;s cybersecurity portfolio and is a Department of Defense-sponsored initiative. </span></span><br />\n&nbsp\;&nbsp\;&nbsp\;&nbsp\;&nbsp\;&nbsp\;<br />\n<span style="color:black\;"><span style="font-size:14.0pt\;">&nbsp\;&nbsp\;&nbsp\;&nbsp\;&nbsp\;&nbsp\; Project Spectrum has developed online multimedia training for organizations that comprise the front line of cyber defense across the United States. The first 45-minute interactive training covers seven of the notional CMMC domains\, such as Access Control\, Physical Protection\, and System/Communications Protection. This training emphasizes how to guard against low-tech penetration methods\, such as tailgating\, badge copying\, and USB dropping\, through continuous monitoring\, training\, and vigilance.</span></span><br />\n&nbsp\;<br />\n<span style="color:black\;"><span style="font-size:14.0pt\;">Register: </span></span><a href="https://attendee.gotowebinar.com/register/424747249191574544"><span style="font-size:14.0pt\;">https://attendee.gotowebinar.com/register/424747249191574544</span></a>
LOCATION:Register: https://attendee.gotowebinar.com/register/424747249191574544
UID:e.2564.794517
SEQUENCE:3
DTSTAMP:20260423T144824Z
URL:https://business.bristolchamber.com/events/details/cyber-you-project-spectrum-s-cmmc-preparedness-training-level-i-794517
END:VEVENT

END:VCALENDAR
