BEGIN:VCALENDAR
VERSION:2.0
PRODID:-//ChamberMaster//Event Calendar 2.0//EN
METHOD:PUBLISH
X-PUBLISHED-TTL:P3D
REFRESH-INTERVAL:P3D
CALSCALE:GREGORIAN
BEGIN:VEVENT
DTSTART:20211016T233000Z
DTEND:20211017T013000Z
X-MICROSOFT-CDO-ALLDAYEVENT:FALSE
SUMMARY:Comedy & Confections
DESCRIPTION:Bristol Regional Speech and Hearing will host a night of fun at Blue Ridge Comedy Club with a special performance by comedian Shawn Carter. Tickets are $50 and include desserts by Blackbird Bakery\, 2 drink vouchers and plenty of laughs. All proceeds benefit the speech and hearing center.
X-ALT-DESC;FMTTYPE=text/html:Bristol Regional Speech and Hearing will host a night of fun at Blue Ridge Comedy Club with a special performance by comedian Shawn Carter. Tickets are $50 and include desserts by Blackbird Bakery\, 2 drink vouchers and plenty of laughs. All proceeds benefit the speech and hearing center.
LOCATION:620 State Street Bristol\, TN 37620 Located behind the restaurant in Blue Ridge Comedy Club
UID:e.2564.794977
SEQUENCE:3
DTSTAMP:20260422T222355Z
URL:https://business.bristolchamber.com/events/details/comedy-confections-794977
END:VEVENT

END:VCALENDAR
