BEGIN:VCALENDAR
VERSION:2.0
PRODID:-//ChamberMaster//Event Calendar 2.0//EN
METHOD:PUBLISH
X-PUBLISHED-TTL:P3D
REFRESH-INTERVAL:P3D
CALSCALE:GREGORIAN
BEGIN:VEVENT
DTSTART:20200226T130000Z
DTEND:20200226T140000Z
X-MICROSOFT-CDO-ALLDAYEVENT:FALSE
SUMMARY:Coffee with the Mayors
DESCRIPTION:Please join Bristol\, TN Mayor Margaret Feierabend and Bristol\, VA Mayor Neal Osborne for breakfast and conversation about everything that is happening in Downtown Bristol. This event is free to attend\, but please RSVP to communityrelations@bristoltn.org or 423-764-4171.
X-ALT-DESC;FMTTYPE=text/html:Please join Bristol\, TN Mayor Margaret Feierabend and Bristol\, VA Mayor Neal Osborne for breakfast and conversation about everything that is happening in Downtown Bristol. This event is free to attend\, but please RSVP to communityrelations@bristoltn.org or 423-764-4171.
LOCATION:Bristol Music Room\, Foundation Event Facility - 620 State St\, Bristol\, TN
UID:e.2564.794366
SEQUENCE:3
DTSTAMP:20260421T025639Z
URL:https://business.bristolchamber.com/events/details/coffee-with-the-mayors-794366
END:VEVENT

END:VCALENDAR
