BEGIN:VCALENDAR
VERSION:2.0
PRODID:-//ChamberMaster//Event Calendar 2.0//EN
METHOD:PUBLISH
X-PUBLISHED-TTL:P3D
REFRESH-INTERVAL:P3D
CALSCALE:GREGORIAN
BEGIN:VEVENT
DTSTART:20220902T180000Z
DTEND:20220902T220000Z
X-MICROSOFT-CDO-ALLDAYEVENT:FALSE
SUMMARY:Cliffwood Medical Aesthetics & Wellness One Year Anniversary Celebration
DESCRIPTION:Save the Date!\n\n\n\nIt's been 1 year since Cliffwood opened its doors and we want to invite you to celebrate with us!\n\n\n\nStop by to see us and our newly renovated relaxation room and party space with private treatment room.  We have treatment specials and giveaways all week long.  Join us on Friday\, September 2nd from 2pm - 6pm to celebrate our first year of business serving the Bristol\, TN/VA & Tri-Cities area.\n\n\n\nFollow us on social media for all the details @cliffwoodmedical\n\n\n\n\n\n\n\nCliffwood Medical Aesthetics & Wellness\n\n981 Volunteer Parkway\n\nBristol\, TN 37620\n\n423-818-0112\n\ninfo@cliffwoodmedical.com
X-ALT-DESC;FMTTYPE=text/html:<span style="color:rgb(34\, 34\, 34)\; font-family:arial\,helvetica\,sans-serif\; font-size:small">Save the Date!</span><br />\n<br />\n<span style="color:rgb(34\, 34\, 34)\; font-family:arial\,helvetica\,sans-serif\; font-size:small">It&#39\;s been 1 year since Cliffwood opened its doors and we want to invite you to celebrate with us!</span><br />\n<br />\n<span style="color:rgb(34\, 34\, 34)\; font-family:arial\,helvetica\,sans-serif\; font-size:small">Stop by to see us and our newly renovated relaxation room and party space with private treatment room.&nbsp\; We have treatment specials and giveaways all week long.&nbsp\; Join us on Friday\, September 2nd from 2pm - 6pm to celebrate our first year of business serving the Bristol\, TN/VA &amp\; Tri-Cities area.</span><br />\n<br />\n<span style="color:rgb(34\, 34\, 34)\; font-family:arial\,helvetica\,sans-serif\; font-size:small">Follow us on social media for all the details @cliffwoodmedical</span><br />\n<br />\n<br />\n<br />\n<span style="color:rgb(34\, 34\, 34)\; font-family:arial\,helvetica\,sans-serif\; font-size:small">Cliffwood Medical Aesthetics &amp\; Wellness</span><br />\n<span style="color:rgb(34\, 34\, 34)\; font-family:arial\,helvetica\,sans-serif\; font-size:small">981 Volunteer Parkway</span><br />\n<span style="color:rgb(34\, 34\, 34)\; font-family:arial\,helvetica\,sans-serif\; font-size:small">Bristol\, TN 37620</span><br />\n<span style="color:rgb(34\, 34\, 34)\; font-family:arial\,helvetica\,sans-serif\; font-size:small">423-818-0112</span><br />\n<a href="mailto:info@cliffwoodmedical.com" style="color: rgb(17\, 85\, 204)\; font-family: Arial\, Helvetica\, sans-serif\; font-size: small\;" target="_blank">info@cliffwoodmedical.com</a>
LOCATION:Cliffwood Medical Aesthetics & Wellness 981 Volunteer Parkway Bristol\, TN 37620
UID:e.2564.795294
SEQUENCE:3
DTSTAMP:20260420T101938Z
URL:https://business.bristolchamber.com/events/details/cliffwood-medical-aesthetics-wellness-one-year-anniversary-celebration-795294
END:VEVENT

END:VCALENDAR
