BEGIN:VCALENDAR
VERSION:2.0
PRODID:-//ChamberMaster//Event Calendar 2.0//EN
METHOD:PUBLISH
X-PUBLISHED-TTL:P3D
REFRESH-INTERVAL:P3D
CALSCALE:GREGORIAN
BEGIN:VEVENT
DTSTART:20191011T123000Z
DTEND:20191011T160000Z
X-MICROSOFT-CDO-ALLDAYEVENT:FALSE
SUMMARY:Certified CPR & First Aid Training
DESCRIPTION:Having specific individuals in your office or company who are certified in CPR and First Aid training is crucial in today's workplace. If you've been searching for a class for your employees\, join instructor Robert Taylor who will teach you everything you need to know so that you feel better prepared should you ever be called upon to use these skills. Upon completion of this class\, you will be CPR certified.
X-ALT-DESC;FMTTYPE=text/html:<span style="font-family: arial\, sans-serif\;">Having specific individuals in your office or company who are certified in CPR and First Aid training is crucial in today&#39\;s workplace. If you&#39\;ve been searching for a class for your employees\, join instructor Robert Taylor who will teach you everything you need to know so that you feel better prepared should you ever be called upon to use these skills. Upon completion of this class\, you will be CPR certified.&nbsp\;</span>
LOCATION:Bristol Chamber of Commerce Conference Room (park and enter Visitors Entrance located behind the building) 20 Volunteer Parkway Bristol\, TN 37620
UID:e.2564.792092
SEQUENCE:3
DTSTAMP:20260422T050624Z
URL:https://business.bristolchamber.com/events/details/certified-cpr-first-aid-training-792092
END:VEVENT

END:VCALENDAR
