BEGIN:VCALENDAR
VERSION:2.0
PRODID:-//ChamberMaster//Event Calendar 2.0//EN
METHOD:PUBLISH
X-PUBLISHED-TTL:P3D
REFRESH-INTERVAL:P3D
CALSCALE:GREGORIAN
BEGIN:VEVENT
DTSTART:20230928T193000Z
DTEND:20230928T213000Z
X-MICROSOFT-CDO-ALLDAYEVENT:FALSE
SUMMARY:Car Seat Checkpoint Event for Child Passenger Safety week
DESCRIPTION:Niswonger Children's Hospital is hosting a car seat checkpoint event during Child Passenger Safety week.  Stop by to ensure your child's car seat is securely installed and/or meeting the proper guidelines to safely transport your child.  The event is free
X-ALT-DESC;FMTTYPE=text/html:Niswonger Children&#39\;s Hospital is hosting a car seat checkpoint event during Child Passenger Safety week.&nbsp\; Stop by to ensure your child&#39\;s car seat is securely installed and/or meeting the proper guidelines to safely transport your child.&nbsp\; The event is free<br />\n&nbsp\;
LOCATION:Bristol Chamber of Commerce Parking Lot 20 Volunteer Parkway Bristol\, TN 37620
UID:e.2564.796033
SEQUENCE:3
DTSTAMP:20260419T155106Z
URL:https://business.bristolchamber.com/events/details/car-seat-checkpoint-event-for-child-passenger-safety-week-796033
END:VEVENT

END:VCALENDAR
