BEGIN:VCALENDAR
VERSION:2.0
PRODID:-//ChamberMaster//Event Calendar 2.0//EN
METHOD:PUBLISH
X-PUBLISHED-TTL:P3D
REFRESH-INTERVAL:P3D
CALSCALE:GREGORIAN
BEGIN:VEVENT
DTSTART;VALUE=DATE:20210602
DTEND;VALUE=DATE:20210710
TRANSP:TRANSPARENT
X-MICROSOFT-CDO-ALLDAYEVENT:TRUE
SUMMARY:BVPS Education Foundation Beach Music Concert Fundraiser featuring The Embers\, with Craig Woolard
DESCRIPTION:The Embers helped create beach music. They can pack a house and bring an audience to its feet with their authentic sound and beat. Tri-Cities residents have the opportunity to join The Embers\, featuring Craig Woolard\, at the Gene Malcolm Stadium/Virginia High School Football Field on Friday\, July 9\, 2021 at 7 p.m. for a performance benefitting the Bristol Virginia Public Schools Education Foundation.\n\n\n\nVicie Dotson\, Director of the Foundation\, said\, "We are so excited to have beach music legends\, The Embers\, featuring Craig Woolard\, come to Bristol this summer. We are incredibly proud to be able to host a live concert fundraiser for our tenth anniversary as a Foundation. We know how much the community here loves supporting live music\, and the community has also been such a support for us through our fundraisers over the years."\n\n\n\nAll proceeds of the beach music concert go towards the Bristol Virginia Public Schools Education Foundation\, a non-profit 501 (c)3 organization.\n\n\n\nTickets are available now at https://www.itickets.com/events/453167. [If spoken\, "Tickets are available now at bvpsfoundation.org."]\n\n\n\nABOUT THE FOUNDATION\n\nThe Bristol Virginia Public Schools Education Foundation is dedicated to enhancing public education in the City of Bristol\, VA by providing opportunities not funded by tax dollars\, including the annual student scholarships and teacher creative classroom grants. For more\, visit bvpsfoundation.org.\n\n\n\nABOUT THE EMBERS\n\nThe Embers\, featuring Craig Woolard\, are a true musical tradition with which many Americans have listened to from childhood to adulthood. The Embers put JOY in your step\, LOVE in your heart and BEACH MUSIC in your soul. For more\, visit theembersband.net.
X-ALT-DESC;FMTTYPE=text/html:<span style="font-family:calibri\,sans-serif"><span style="font-size:11.0pt">The Embers helped create beach music. They can pack a house and bring an audience to its feet with their authentic sound and beat. Tri-Cities residents have the opportunity to join The Embers\, featuring Craig Woolard\, at the Gene Malcolm Stadium/Virginia High School Football Field on Friday\, July 9\, 2021 at 7 p.m. for a performance benefitting the Bristol Virginia Public Schools Education Foundation.<br />\n<br />\nVicie Dotson\, Director of the Foundation\, said\, &ldquo\;We are so excited to have beach music legends\, The Embers\, featuring Craig Woolard\, come to Bristol this summer. We are incredibly proud to be able to host a live concert fundraiser for our tenth anniversary as a Foundation. We know how much the community here loves supporting live music\, and the community has also been such a support for us through our fundraisers over the years.&rdquo\;<br />\n<br />\nAll proceeds of the beach music concert go towards the Bristol Virginia Public Schools Education Foundation\, a non-profit 501 (c)3 organization.<br />\n<br />\nTickets are available now at <a href="https://nam02.safelinks.protection.outlook.com/?url=https%3A%2F%2Fwww.itickets.com%2Fevents%2F453167&amp\;data=04%7C01%7Cfoundation%40bvps.org%7C6a6a0b2a46b9403433d008d920849da4%7Cffca25f1f97a404884a5305b8257aaa1%7C0%7C0%7C637577210142640832%7CUnknown%7CTWFpbGZsb3d8eyJWIjoiMC4wLjAwMDAiLCJQIjoiV2luMzIiLCJBTiI6Ik1haWwiLCJXVCI6Mn0%3D%7C2000&amp\;sdata=d15nyQXM2pwlh9LPILcmQcj04s8DHTXe0xHYr4W38og%3D&amp\;reserved=0" target="_blank">https://www.itickets.com/events/453167</a>. [If spoken\, &ldquo\;Tickets are available now at bvpsfoundation.org.&rdquo\;]<br />\n<br />\nABOUT THE FOUNDATION<br />\nThe Bristol Virginia Public Schools Education Foundation is dedicated to enhancing public education in the City of Bristol\, VA by providing opportunities not funded by tax dollars\, including the annual student scholarships and teacher creative classroom grants. For more\, visit <a href="https://nam02.safelinks.protection.outlook.com/?url=http%3A%2F%2Fbvpsfoundation.org%2F&amp\;data=04%7C01%7Cfoundation%40bvps.org%7C6a6a0b2a46b9403433d008d920849da4%7Cffca25f1f97a404884a5305b8257aaa1%7C0%7C0%7C637577210142650829%7CUnknown%7CTWFpbGZsb3d8eyJWIjoiMC4wLjAwMDAiLCJQIjoiV2luMzIiLCJBTiI6Ik1haWwiLCJXVCI6Mn0%3D%7C2000&amp\;sdata=Mbl5Wywpk5WOUQUK4R%2FT6O4cWfMfTCEcbnao1fYrPUc%3D&amp\;reserved=0" target="_blank">bvpsfoundation.org</a>.<br />\n<br />\nABOUT THE EMBERS<br />\nThe Embers\, featuring Craig Woolard\, are a true musical tradition with which many Americans have listened to from childhood to adulthood. The Embers put JOY in your step\, LOVE in your heart and BEACH MUSIC in your soul. For more\, visit <a href="https://nam02.safelinks.protection.outlook.com/?url=http%3A%2F%2Ftheembersband.net%2F&amp\;data=04%7C01%7Cfoundation%40bvps.org%7C6a6a0b2a46b9403433d008d920849da4%7Cffca25f1f97a404884a5305b8257aaa1%7C0%7C0%7C637577210142650829%7CUnknown%7CTWFpbGZsb3d8eyJWIjoiMC4wLjAwMDAiLCJQIjoiV2luMzIiLCJBTiI6Ik1haWwiLCJXVCI6Mn0%3D%7C2000&amp\;sdata=mfskQuo4hxu%2FqJ95Avyuyz2TdpiheJwo9fwVU2z69Wc%3D&amp\;reserved=0" target="_blank">theembersband.net</a>.</span></span>
LOCATION:Virginia High School football field/Gene Malcolm Stadium--1503 Euclid Ave. Bristol\, VA
UID:e.2564.794893
SEQUENCE:3
DTSTAMP:20260423T014355Z
URL:https://business.bristolchamber.com/events/details/bvps-education-foundation-beach-music-concert-fundraiser-featuring-the-embers-with-craig-woolard-794893
END:VEVENT

END:VCALENDAR
