BEGIN:VCALENDAR
VERSION:2.0
PRODID:-//ChamberMaster//Event Calendar 2.0//EN
METHOD:PUBLISH
X-PUBLISHED-TTL:P3D
REFRESH-INTERVAL:P3D
CALSCALE:GREGORIAN
BEGIN:VEVENT
DTSTART:20210331T153000Z
DTEND:20210331T170000Z
X-MICROSOFT-CDO-ALLDAYEVENT:FALSE
SUMMARY:Building Strong Brains
DESCRIPTION:What does your parent's divorce have to do with your risk of heart disease?\n\nLearn more about early brain development and the effects of early trauma on the lives of children and the long-lasting effects on families and adults. It's critical to understand early brain development to create a strong community\, workforce\, and economy. Training certified by the Tennessee Commission for Children and Youth.
X-ALT-DESC;FMTTYPE=text/html:<strong>What does your parent&#39\;s divorce have to do with your risk of heart disease?</strong><br />\n<span style="color:rgb(0\, 0\, 0)\; font-family:arial\; font-size:small">Learn more about early brain development and the effects of early trauma on the lives of children and the long-lasting effects on families and adults. It&#39\;s critical to understand early brain development to create a strong community\, workforce\, and economy. Training certified by the Tennessee Commission for Children and Youth.</span>
LOCATION:Pre-register for this event by clicking HERE After registering\, you will receive a confirmation email containing information about joining the meeting.
UID:e.2564.794641
SEQUENCE:3
DTSTAMP:20260423T074014Z
URL:https://business.bristolchamber.com/events/details/building-strong-brains-794641
END:VEVENT

END:VCALENDAR
