BEGIN:VCALENDAR
VERSION:2.0
PRODID:-//ChamberMaster//Event Calendar 2.0//EN
METHOD:PUBLISH
X-PUBLISHED-TTL:P3D
REFRESH-INTERVAL:P3D
CALSCALE:GREGORIAN
BEGIN:VEVENT
DTSTART:20221127T180000Z
DTEND:20221127T220000Z
X-MICROSOFT-CDO-ALLDAYEVENT:FALSE
SUMMARY:Bristol Train Station Children's Christmas Party - Polar Express
DESCRIPTION:All Aboard! The Bristol Train Station Foundation will be kicking off the Christmas season by hosting a Children's Christmas party. The party will be held at the Bristol Train Station on Sunday\, November 27th\, 2022\, at 1:00 to 5:00 p.m. The theme for the party is based on the popular Polar Express story and movie. Children will get to meet and have their picture taken with Santa\, meet the train Conductor\, and have hot chocolate while listening to the Polar Express story. They are welcome to wear their pajamas! There will be a variety of activities and games for the children including cookies to decorate\, letters to Santa\, and other crafts and games. There will also be a gingerbread house contest! These works of art will be displayed\, and everyone is invited to vote for their favorite. As this is a fundraiser for the Bristol Train Station Foundation\, a raffle for various gift baskets and other items donated by our local vendors will be held. These baskets will be available to be viewed at the Believe in Bristol office on 6th Street\, on State Street during the Downtown Open House on Monday November 21st\, and at the Train Station during the Christmas event. All proceeds will benefit the Bristol Train Station Foundation.
X-ALT-DESC;FMTTYPE=text/html:All Aboard! The Bristol Train Station Foundation will be kicking off the Christmas season by hosting a Children&rsquo\;s Christmas party. The party will be held at the Bristol Train Station on Sunday\, November 27th\, 2022\, at 1:00 to 5:00 p.m. The theme for the party is based on the popular Polar Express story and movie. Children will get to meet and have their picture taken with Santa\, meet the train Conductor\, and have hot chocolate while listening to the Polar Express story. They are welcome to wear their pajamas! There will be a variety of activities and games for the children including cookies to decorate\, letters to Santa\, and other crafts and games. There will also be a gingerbread house contest! These works of art will be displayed\, and everyone is invited to vote for their favorite. As this is a fundraiser for the Bristol Train Station Foundation\, a raffle for various gift baskets and other items donated by our local vendors will be held. These baskets will be available to be viewed at the Believe in Bristol office on 6th Street\, on State Street during the Downtown Open House on Monday November 21st\, and at the Train Station during the Christmas event. All proceeds will benefit the Bristol Train Station Foundation.
LOCATION:Bristol Train Station\, 101 Martin Luther King Jr. Blvd\, Bristol\, VA
UID:e.2564.795377
SEQUENCE:3
DTSTAMP:20260420T060408Z
URL:https://business.bristolchamber.com/events/details/bristol-train-station-children-s-christmas-party-polar-express-795377
END:VEVENT

END:VCALENDAR
