BEGIN:VCALENDAR
VERSION:2.0
PRODID:-//ChamberMaster//Event Calendar 2.0//EN
METHOD:PUBLISH
X-PUBLISHED-TTL:P3D
REFRESH-INTERVAL:P3D
CALSCALE:GREGORIAN
BEGIN:VEVENT
DTSTART:20220606T130000Z
DTEND:20220606T180000Z
X-MICROSOFT-CDO-ALLDAYEVENT:FALSE
SUMMARY:Bristol Public Library Foundation Golf Tournament
DESCRIPTION:Bristol Public Library Foundation Captain's Choice Golf Tournament Come golf\, have fun\, and support the library all at the same time. Door prizes and team finishing prizes.
X-ALT-DESC;FMTTYPE=text/html:Bristol Public Library Foundation Captain&#39\;s Choice Golf Tournament Come golf\, have fun\, and support the library all at the same time. Door prizes and team finishing prizes.
LOCATION:The Golf Club of Bristol 6045 Old Jonesboro Road Bristol\, Tennessee
UID:e.2564.795193
SEQUENCE:3
DTSTAMP:20260422T084856Z
URL:https://business.bristolchamber.com/events/details/bristol-public-library-foundation-golf-tournament-795193
END:VEVENT

END:VCALENDAR
