BEGIN:VCALENDAR
VERSION:2.0
PRODID:-//ChamberMaster//Event Calendar 2.0//EN
METHOD:PUBLISH
X-PUBLISHED-TTL:P3D
REFRESH-INTERVAL:P3D
CALSCALE:GREGORIAN
BEGIN:VEVENT
DTSTART:20230307T130000Z
DTEND:20230307T140000Z
X-MICROSOFT-CDO-ALLDAYEVENT:FALSE
SUMMARY:Bristol Morning Rotary Club
DESCRIPTION:The Bristol Morning Rotary is excited to have the Branch House Family Justice Center lead our program on Tuesday\, March 7th. We are looking forward to hearing about the critical services the Branch House provides to our community. \n\n \n\nIf you want to learn more about the Branch House or Rotary\, you are invited to join us.\n\n\n\nCoffee and light breakfast served
X-ALT-DESC;FMTTYPE=text/html:<span style="font-size:11.0pt">The Bristol Morning Rotary is excited to have the Branch House Family Justice Center lead our program on Tuesday\, March 7<sup>th</sup>. We are looking forward to hearing about the critical services the Branch House provides to our community. </span><br />\n&nbsp\;<br />\n<span style="font-size:11.0pt">If you want to learn more about the Branch House or Rotary\, you are invited to join us.<br />\n<br />\nCoffee and light breakfast served</span><br />\n<br />\n&nbsp\;
LOCATION:The Summit (Expedition Meeting Room) 1227 Volunteer Parkway Bristol\, TN 37620
UID:e.2564.795842
SEQUENCE:3
DTSTAMP:20260420T001058Z
URL:https://business.bristolchamber.com/events/details/bristol-morning-rotary-club-795842
END:VEVENT

END:VCALENDAR
