BEGIN:VCALENDAR
VERSION:2.0
PRODID:-//ChamberMaster//Event Calendar 2.0//EN
METHOD:PUBLISH
X-PUBLISHED-TTL:P3D
REFRESH-INTERVAL:P3D
CALSCALE:GREGORIAN
BEGIN:VEVENT
DTSTART:20211103T150000Z
DTEND:20211103T220000Z
X-MICROSOFT-CDO-ALLDAYEVENT:FALSE
SUMMARY:Bristol Commons Goodwill Store Grand Reopening!
DESCRIPTION:After undergoing extensive renovations to improve our retail space\, we are excited to announce the grand reopening of our Bristol Commons store on Wednesday\, November 3rd at 11:00AM. We invite you to join us!
X-ALT-DESC;FMTTYPE=text/html:After undergoing extensive renovations to improve our retail space\, we are excited to announce the grand reopening of our Bristol Commons store on Wednesday\, November 3rd at 11:00AM. We invite you to join us!
LOCATION:3170 Linden Drive | Bristol\, VA
UID:e.2564.794998
SEQUENCE:3
DTSTAMP:20260422T193530Z
URL:https://business.bristolchamber.com/events/details/bristol-commons-goodwill-store-grand-reopening-794998
END:VEVENT

END:VCALENDAR
