BEGIN:VCALENDAR
VERSION:2.0
PRODID:-//ChamberMaster//Event Calendar 2.0//EN
METHOD:PUBLISH
X-PUBLISHED-TTL:P3D
REFRESH-INTERVAL:P3D
CALSCALE:GREGORIAN
BEGIN:VEVENT
DTSTART:20230721T190000Z
DTEND:20230722T190000Z
X-MICROSOFT-CDO-ALLDAYEVENT:FALSE
SUMMARY:Bridal Warehouse Sale
DESCRIPTION:Bridal Warehouse Sale Are you looking for a wedding dress? On Friday\, July 21st and Saturday\, July 22nd\, we will be hosting our Bridal Warehouse Sale! We will have hundreds of new couture and designer gowns\, all for an affordable price! Friday\, July 21st\, from 3pm   7pm brides will have a premium choice of designer\, couture gowns without the couture price! Saturday\, July 22nd from 9am   3pm brides will find even deeper discounts on brand new couture gowns! Every purchase benefits the programs of YWCA NETN and SWVA. To learn more about our mission\, visit www.ywcatnva.org
X-ALT-DESC;FMTTYPE=text/html:Bridal Warehouse Sale Are you looking for a wedding dress? On Friday\, July 21st and Saturday\, July 22nd\, we will be hosting our Bridal Warehouse Sale! We will have hundreds of new couture and designer gowns\, all for an affordable price! Friday\, July 21st\, from 3pm &ndash\; 7pm brides will have a premium choice of designer\, couture gowns without the couture price! Saturday\, July 22nd from 9am &ndash\; 3pm brides will find even deeper discounts on brand new couture gowns! Every purchase benefits the programs of YWCA NETN and SWVA. To learn more about our mission\, visit www.ywcatnva.org
LOCATION:YWCA NETN & SWVA 106 State Street Bristol\, TN 37620
UID:e.2564.795948
SEQUENCE:3
DTSTAMP:20260419T182648Z
URL:https://business.bristolchamber.com/events/details/bridal-warehouse-sale-795948
END:VEVENT

END:VCALENDAR
