BEGIN:VCALENDAR
VERSION:2.0
PRODID:-//ChamberMaster//Event Calendar 2.0//EN
METHOD:PUBLISH
X-PUBLISHED-TTL:P3D
REFRESH-INTERVAL:P3D
CALSCALE:GREGORIAN
BEGIN:VEVENT
DTSTART:20220318T163000Z
DTEND:20220318T173000Z
X-MICROSOFT-CDO-ALLDAYEVENT:FALSE
SUMMARY:Bottom Line Tsunami Lunch & Learn
DESCRIPTION:If you are having trouble maintaining employees and employee morale\, the issue may be deeper than you think.\n\n\n\nIn follow up to the Bristol Chamber of Commerce Second Friday event on March 11\, Bristol's Promise will help answer your questions about how you can prepare your business for the impending trauma tsunami. Grab your lunch and join us for a lunch and learn session.\n\n\n\nPlease register in advance HERE
X-ALT-DESC;FMTTYPE=text/html:<span style="color:rgb(60\, 64\, 67)\; font-family:roboto\,helvetica\,arial\,sans-serif\; font-size:14px">If you are having trouble maintaining employees and employee morale\, the issue may be deeper than you think.</span><br />\n<br />\n<span style="color:rgb(60\, 64\, 67)\; font-family:roboto\,helvetica\,arial\,sans-serif\; font-size:14px">In follow up to the Bristol Chamber of Commerce Second Friday event on March 11\, Bristol&#39\;s Promise will help answer your questions about how you can prepare your business for the impending trauma tsunami. Grab your lunch and join us for a lunch and learn session.</span><br />\n<br />\n<span style="color:rgb(60\, 64\, 67)\; font-family:roboto\,helvetica\,arial\,sans-serif\; font-size:14px">Please register in advance&nbsp\;</span><a href="https://us06web.zoom.us/meeting/register/tZAucOmrqDMjEtVtMOTXJTiDZ1IEyjqmmsvv">HERE</a>
LOCATION:Online via Zoom. Please register in advance HERE
UID:e.2564.795127
SEQUENCE:3
DTSTAMP:20260422T144624Z
URL:https://business.bristolchamber.com/events/details/bottom-line-tsunami-lunch-learn-795127
END:VEVENT

END:VCALENDAR
