BEGIN:VCALENDAR
VERSION:2.0
PRODID:-//ChamberMaster//Event Calendar 2.0//EN
METHOD:PUBLISH
X-PUBLISHED-TTL:P3D
REFRESH-INTERVAL:P3D
CALSCALE:GREGORIAN
BEGIN:VEVENT
DTSTART:20230421T233000Z
DTEND:20230422T020000Z
X-MICROSOFT-CDO-ALLDAYEVENT:FALSE
SUMMARY:Blackhawk at Paramount Bristol
DESCRIPTION:For more than 20 years\, BlackHawk has shared a unique sense of harmony with their voices\, their songs and their fans. It's a harmony that has sold over 7 million albums\, scored some of the most distinctive country radio hits of the '90s\, and still draws tens of thousands of fans to their electrifying live performances. Today BlackHawk continues to honor its past as it forges its future\, and does it all with a commitment that takes their music   and the harmony   to a whole new level.
X-ALT-DESC;FMTTYPE=text/html:For more than 20 years\, BlackHawk has shared a unique sense of harmony with their voices\, their songs and their fans. It&rsquo\;s a harmony that has sold over 7 million albums\, scored some of the most distinctive country radio hits of the &lsquo\;90s\, and still draws tens of thousands of fans to their electrifying live performances. Today BlackHawk continues to honor its past as it forges its future\, and does it all with a commitment that takes their music &ndash\; and the harmony &ndash\; to a whole new level.
LOCATION:Paramount Bristol 518 State Street Bristol\, TN 37620
UID:e.2564.795862
SEQUENCE:3
DTSTAMP:20260419T223206Z
URL:https://business.bristolchamber.com/events/details/blackhawk-at-paramount-bristol-795862
END:VEVENT

END:VCALENDAR
