BEGIN:VCALENDAR
VERSION:2.0
PRODID:-//ChamberMaster//Event Calendar 2.0//EN
METHOD:PUBLISH
X-PUBLISHED-TTL:P3D
REFRESH-INTERVAL:P3D
CALSCALE:GREGORIAN
BEGIN:VEVENT
DTSTART:20230422T233000Z
DTEND:20230423T020000Z
X-MICROSOFT-CDO-ALLDAYEVENT:FALSE
SUMMARY:Big Bad Voodoo Daddy
DESCRIPTION:Big Bad Voodoo Daddy's efforts to promote and revitalize swing music have taken shape as much more than a simple tribute. Taking inspiration from the creators of this uniquely American art form\, the band's original horn-infused music and legendary high energy show introduces the genre to a new and younger generation while remaining cognizant and respectful of the music's rich legacy.
X-ALT-DESC;FMTTYPE=text/html:Big Bad Voodoo Daddy&rsquo\;s efforts to promote and revitalize swing music have taken shape as much more than a simple tribute. Taking inspiration from the creators of this uniquely American art form\, the band&rsquo\;s original horn-infused music and legendary high energy show introduces the genre to a new and younger generation while remaining cognizant and respectful of the music&rsquo\;s rich legacy.
LOCATION:Paramount Bristol 518 State Street Bristol\, TN 37620
UID:e.2564.795864
SEQUENCE:3
DTSTAMP:20260419T235648Z
URL:https://business.bristolchamber.com/events/details/big-bad-voodoo-daddy-795864
END:VEVENT

END:VCALENDAR
