BEGIN:VCALENDAR
VERSION:2.0
PRODID:-//ChamberMaster//Event Calendar 2.0//EN
METHOD:PUBLISH
X-PUBLISHED-TTL:P3D
REFRESH-INTERVAL:P3D
CALSCALE:GREGORIAN
BEGIN:VEVENT
DTSTART:20191001T233000Z
DTEND:20191001T233000Z
X-MICROSOFT-CDO-ALLDAYEVENT:FALSE
SUMMARY:Beatles vs Stones - A Musical Showdown
DESCRIPTION:Beatles vs. Stones -- A Musical Showdown comes to the Paramount Center for the Arts on Tuesday\, October 1 at 7:30 pm. Tickets are $25 - $40\, with applicable fees and taxes\, and may be purchased by phone at (423) 274.8920\, at the Theatre Box Office or online at www.paramountbristol.org. Discounts available for Paramount Bristol members\, Seniors\, Students and Active Military. The Box Office is open Tuesday   Friday from Noon to 6:00 pm. The Paramount Center is located at 518 State St\, Bristol\, TN 37620. The show is appropriate for all ages. Two of the greatest bands of all time face off in a high-energy\, adrenaline-pumping musical showdown. The Fab Four\, represented by tribute band Abbey Road will engage in a barrage of hits against premier Rolling Stones tribute band Satisfaction. It's a face-off you won't want to miss!
X-ALT-DESC;FMTTYPE=text/html:Beatles vs. Stones -- A Musical Showdown comes to the Paramount Center for the Arts on Tuesday\, October 1 at 7:30 pm. Tickets are $25 - $40\, with applicable fees and taxes\, and may be purchased by phone at (423) 274.8920\, at the Theatre Box Office or online at www.paramountbristol.org. Discounts available for Paramount Bristol members\, Seniors\, Students and Active Military. The Box Office is open Tuesday &ndash\; Friday from Noon to 6:00 pm. The Paramount Center is located at 518 State St\, Bristol\, TN 37620. The show is appropriate for all ages. Two of the greatest bands of all time face off in a high-energy\, adrenaline-pumping musical showdown. The Fab Four\, represented by tribute band Abbey Road will engage in a barrage of hits against premier Rolling Stones tribute band Satisfaction. It&rsquo\;s a face-off you won&rsquo\;t want to miss!
LOCATION:Paramount Center for the Arts 518 State St\, Bristol\, TN\, 37620
UID:e.2564.792058
SEQUENCE:3
DTSTAMP:20260422T095023Z
URL:https://business.bristolchamber.com/events/details/beatles-vs-stones-a-musical-showdown-792058
END:VEVENT

END:VCALENDAR
