BEGIN:VCALENDAR
VERSION:2.0
PRODID:-//ChamberMaster//Event Calendar 2.0//EN
METHOD:PUBLISH
X-PUBLISHED-TTL:P3D
REFRESH-INTERVAL:P3D
CALSCALE:GREGORIAN
BEGIN:VEVENT
DTSTART;VALUE=DATE:20191117
DTEND;VALUE=DATE:20191225
TRANSP:TRANSPARENT
X-MICROSOFT-CDO-ALLDAYEVENT:TRUE
SUMMARY:Bass Pro Shops & Cabela's Santa Wonderland
DESCRIPTION:Visit Bass Pro Shops or Cabela's during store hours for fun and games at Santa's Wonderland!
X-ALT-DESC;FMTTYPE=text/html:Visit Bass Pro Shops or Cabela&#39\;s during store hours for fun and games at Santa&#39\;s Wonderland!
LOCATION:Bass Pro Shops or Cabelas
UID:e.2564.794188
SEQUENCE:3
DTSTAMP:20260424T055922Z
URL:https://business.bristolchamber.com/events/details/bass-pro-shops-cabela-s-santa-wonderland-794188
END:VEVENT

END:VCALENDAR
