BEGIN:VCALENDAR
VERSION:2.0
PRODID:-//ChamberMaster//Event Calendar 2.0//EN
METHOD:PUBLISH
X-PUBLISHED-TTL:P3D
REFRESH-INTERVAL:P3D
CALSCALE:GREGORIAN
BEGIN:VEVENT
DTSTART:20220806T170000Z
DTEND:20220806T190000Z
X-MICROSOFT-CDO-ALLDAYEVENT:FALSE
SUMMARY:Back To School Bash
DESCRIPTION:COME JOIN US AT THE COVENANT FELLOWSHIP ANNUAL BACK TO SCHOOL BASH! THERE WILL BE PLENTY OF FOOD\, GIVE AWAYS AND BOUNCE HOUSES FOR THE WHOLE FAMILY!
X-ALT-DESC;FMTTYPE=text/html:COME JOIN US AT THE COVENANT FELLOWSHIP ANNUAL BACK TO SCHOOL BASH! THERE WILL BE PLENTY OF FOOD\, GIVE AWAYS AND BOUNCE HOUSES FOR THE WHOLE FAMILY!
LOCATION:Anderson Park 341 Martin Luther King Jr. Blvd. Bristol\, TN
UID:e.2564.795253
SEQUENCE:3
DTSTAMP:20260420T101251Z
URL:https://business.bristolchamber.com/events/details/back-to-school-bash-795253
END:VEVENT

END:VCALENDAR
