BEGIN:VCALENDAR
VERSION:2.0
PRODID:-//ChamberMaster//Event Calendar 2.0//EN
METHOD:PUBLISH
X-PUBLISHED-TTL:P3D
REFRESH-INTERVAL:P3D
CALSCALE:GREGORIAN
BEGIN:VEVENT
DTSTART:20190824T220000Z
DTEND:20190825T010000Z
X-MICROSOFT-CDO-ALLDAYEVENT:FALSE
SUMMARY:Australian Dress Down Under
DESCRIPTION:The Boys & Girls Club of the Mountain Empire will be hosting the 4th annual Australian Dress Down Under event on Saturday\, August 24th at Cumberland Square Park in Bristol\, VA. The festivities will be from 6:00 p.m. until 9:00 p.m. This year the music will be by DJ Marques. There will also be delicious food and drinks from several local businesses. The primary food sponsor will be Outback Steakhouse. The evening will also include a 50/50 raffle\, as well as Live and Silent Auctions\, including the traditional auctioning of an adorable Australian Shepherd puppy. Please plan to be part of this exciting evening. All funds raised will benefit the local Boys & Girls Club of the Mountain Empire.
X-ALT-DESC;FMTTYPE=text/html:The Boys &amp\; Girls Club of the Mountain Empire will be hosting the 4th annual Australian Dress Down Under event on Saturday\, August 24th at Cumberland Square Park in Bristol\, VA. The festivities will be from 6:00 p.m. until 9:00 p.m. This year the music will be by DJ Marques. There will also be delicious food and drinks from several local businesses. The primary food sponsor will be Outback Steakhouse. The evening will also include a 50/50 raffle\, as well as Live and Silent Auctions\, including the traditional auctioning of an adorable Australian Shepherd puppy. Please plan to be part of this exciting evening. All funds raised will benefit the local Boys &amp\; Girls Club of the Mountain Empire.
LOCATION:Cumberland Square Park 200 Lee Street- Bristol\, VA 24201
UID:e.2564.792057
SEQUENCE:3
DTSTAMP:20260424T113125Z
URL:https://business.bristolchamber.com/events/details/australian-dress-down-under-08-24-2019-792057
END:VEVENT

END:VCALENDAR
