BEGIN:VCALENDAR
VERSION:2.0
PRODID:-//ChamberMaster//Event Calendar 2.0//EN
METHOD:PUBLISH
X-PUBLISHED-TTL:P3D
REFRESH-INTERVAL:P3D
CALSCALE:GREGORIAN
BEGIN:VEVENT
DTSTART:20240213T230000Z
DTEND:20240214T010000Z
X-MICROSOFT-CDO-ALLDAYEVENT:FALSE
SUMMARY:AUDITIONS for "The Rainbow Fish"
DESCRIPTION:Auditions for "The Rainbow Fish" are coming up soon! Roles are available for children and youth. Auditions are February 12 and 13 at Theatre Bristol. A full-scale\, glittery-scaled stage version of the award-winning children's book\, "The Rainbow Fish\," will transform the ARTspace into a sea world\, with Rainbow Fish\, Little Fish\, Starfish\, Ms. Minnow\, Octopus\, Pufferfish\, Hermit Crab\, Sardine\, Clownfish\, and many other creatures and show how kindness really shimmers\, shines\, and sparkles. Learn more and fill out the audition form at theatrebristol.org/audition.
X-ALT-DESC;FMTTYPE=text/html:Auditions for &quot\;The Rainbow Fish&quot\; are coming up soon! Roles are available for children and youth. Auditions are February 12 and 13 at Theatre Bristol. A full-scale\, glittery-scaled stage version of the award-winning children&rsquo\;s book\, &ldquo\;The Rainbow Fish\,&rdquo\; will transform the ARTspace into a sea world\, with Rainbow Fish\, Little Fish\, Starfish\, Ms. Minnow\, Octopus\, Pufferfish\, Hermit Crab\, Sardine\, Clownfish\, and many other creatures and show how kindness really shimmers\, shines\, and sparkles. Learn more and fill out the audition form at theatrebristol.org/audition.
LOCATION:Theatre Bristol 506 State Street Bristol\, TN
UID:e.2564.796137
SEQUENCE:3
DTSTAMP:20260419T133803Z
URL:https://business.bristolchamber.com/events/details/auditions-for-the-rainbow-fish-02-13-2024-796137
END:VEVENT

END:VCALENDAR
