BEGIN:VCALENDAR
VERSION:2.0
PRODID:-//ChamberMaster//Event Calendar 2.0//EN
METHOD:PUBLISH
X-PUBLISHED-TTL:P3D
REFRESH-INTERVAL:P3D
CALSCALE:GREGORIAN
BEGIN:VEVENT
DTSTART:20220107T003000Z
DTEND:20220106T163000Z
X-MICROSOFT-CDO-ALLDAYEVENT:FALSE
SUMMARY:Attached at the Heart Parenting Series
DESCRIPTION:Attached at the Heart parenting classes are for everyone\, and a commitment is not required. Our goal is for parents to feel confident in their parenting skills\, and in themselves! Bristol's Promise Parenting Education Network is hosting a series of free online modules that cover child development\, parenting\, discipline\, sleep\, childcare\, feeding\, family relationships\, and much more. You are welcome to attend any of the online classes throughout the ten-week series. Classes are offered weekly on Thursdays at 7:30 pm and Fridays at 10:30 am. This series serves as a strong foundation for healthy parent-child attachment and makes parenting easier! On Thursday evenings at 9:00 pm\, we offer an online parenting "playdate" for a chance to meet and share questions and challenges and joys - register to receive the link. This is a wonderful opportunity to connect with other parents. Remember\, there is no commitment for this online parenting series\, so grab a cup of hot tea and pull up a chair because we would love to have you. See you there! If you have questions about the Attached at the Heart parenting series\, please contact: Samantha Gray (samantha@bristolspromise.org) or Danielle Booher (danielle@bristolspromise.org)
X-ALT-DESC;FMTTYPE=text/html:Attached at the Heart parenting classes are for everyone\, and a commitment is not required. Our goal is for parents to feel confident in their parenting skills\, and in themselves! Bristol&#39\;s Promise Parenting Education Network is hosting a series of free online modules that cover child development\, parenting\, discipline\, sleep\, childcare\, feeding\, family relationships\, and much more. You are welcome to attend any of the online classes throughout the ten-week series. Classes are offered weekly on Thursdays at 7:30 pm and Fridays at 10:30 am. This series serves as a strong foundation for healthy parent-child attachment and makes parenting easier! On Thursday evenings at 9:00 pm\, we offer an online parenting &ldquo\;playdate&rdquo\; for a chance to meet and share questions and challenges and joys - register to receive the link. This is a wonderful opportunity to connect with other parents. Remember\, there is no commitment for this online parenting series\, so grab a cup of hot tea and pull up a chair because we would love to have you. See you there! If you have questions about the Attached at the Heart parenting series\, please contact: Samantha Gray (samantha@bristolspromise.org) or Danielle Booher (danielle@bristolspromise.org)
LOCATION:Online Registration Link: https://docs.google.com/forms/d/e/1FAIpQLSdZ1oJhW_nj5nkLw_Z_DhwNXW1wzVuF3IajFNED86mjraW6vQ/viewform
UID:e.2564.795024
SEQUENCE:3
DTSTAMP:20260422T162627Z
URL:https://business.bristolchamber.com/events/details/attached-at-the-heart-parenting-series-795024
END:VEVENT

END:VCALENDAR
