BEGIN:VCALENDAR
VERSION:2.0
PRODID:-//ChamberMaster//Event Calendar 2.0//EN
METHOD:PUBLISH
X-PUBLISHED-TTL:P3D
REFRESH-INTERVAL:P3D
CALSCALE:GREGORIAN
BEGIN:VEVENT
DTSTART;VALUE=DATE:20190312
DTEND;VALUE=DATE:20190313
TRANSP:TRANSPARENT
X-MICROSOFT-CDO-ALLDAYEVENT:TRUE
SUMMARY:Arby’s $1.29 Roast Beef Classic Day
DESCRIPTION:Get Arby's Classic Roast Beef Sandwich for only $1.29 (Regularly $3.49) on 3/12/19 at a participating TriCities TN/VA location! Valid at participating Arby's restaurants in Abingdon and Bristol in Virginia and in Elizabethton\, Bristol\, Johnson City\, Kingsport\, Greeneville\, Blountville\, and Jonesborough in Tennessee.
X-ALT-DESC;FMTTYPE=text/html:Get Arby&rsquo\;s Classic Roast Beef Sandwich for only $1.29 (Regularly $3.49) on 3/12/19 at a participating TriCities TN/VA location! Valid at participating Arby&#39\;s restaurants in Abingdon and Bristol in Virginia and in Elizabethton\, Bristol\, Johnson City\, Kingsport\, Greeneville\, Blountville\, and Jonesborough in Tennessee.
LOCATION:Arby's locations in Abingdon and Bristol in Virginia and in Elizabethton\, Bristol\, Johnson City\, Kingsport\, Greeneville\, Blountville\, and Jonesborough in Tennessee.
UID:e.2564.791941
SEQUENCE:3
DTSTAMP:20260421T181258Z
URL:https://business.bristolchamber.com/events/details/arby-s-1-29-roast-beef-classic-day-791941
END:VEVENT

END:VCALENDAR
