BEGIN:VCALENDAR
VERSION:2.0
PRODID:-//ChamberMaster//Event Calendar 2.0//EN
METHOD:PUBLISH
X-PUBLISHED-TTL:P3D
REFRESH-INTERVAL:P3D
CALSCALE:GREGORIAN
BEGIN:VEVENT
DTSTART:20190601T130000Z
DTEND:20190601T210000Z
X-MICROSOFT-CDO-ALLDAYEVENT:FALSE
SUMMARY:Appalachian Heritage Festival
DESCRIPTION:Annual Garden Fair presented by the Northeast Tennessee Master Gardeners
X-ALT-DESC;FMTTYPE=text/html:Annual Garden Fair presented by the Northeast Tennessee Master Gardeners
LOCATION:Ron Ramsey Agricultural Center\, 140 Spurgeon Lane\, Blountville\, TN
UID:e.2564.791960
SEQUENCE:3
DTSTAMP:20260424T143448Z
URL:https://business.bristolchamber.com/events/details/appalachian-heritage-festival-791960
END:VEVENT

END:VCALENDAR
