BEGIN:VCALENDAR
VERSION:2.0
PRODID:-//ChamberMaster//Event Calendar 2.0//EN
METHOD:PUBLISH
X-PUBLISHED-TTL:P3D
REFRESH-INTERVAL:P3D
CALSCALE:GREGORIAN
BEGIN:VEVENT
DTSTART:20211106T140000Z
DTEND:20211106T160000Z
X-MICROSOFT-CDO-ALLDAYEVENT:FALSE
SUMMARY:Annual Veterans Day Parade
DESCRIPTION:Annual Veterans Day Parade in downtown Bristol. Traditional Veterans Ceremony will be held following the parade at the Bristol War Memorial on Cumberland Street.
X-ALT-DESC;FMTTYPE=text/html:Annual Veterans Day Parade in downtown Bristol. Traditional Veterans Ceremony will be held following the parade at the Bristol War Memorial on Cumberland Street.&nbsp\;
LOCATION:Downtown Bristol and Bristol War Memorial at Cumberland Square Park
UID:e.2564.794978
SEQUENCE:3
DTSTAMP:20260422T193152Z
URL:https://business.bristolchamber.com/events/details/annual-veterans-day-parade-794978
END:VEVENT

END:VCALENDAR
