BEGIN:VCALENDAR
VERSION:2.0
PRODID:-//ChamberMaster//Event Calendar 2.0//EN
METHOD:PUBLISH
X-PUBLISHED-TTL:P3D
REFRESH-INTERVAL:P3D
CALSCALE:GREGORIAN
BEGIN:VEVENT
DTSTART:20191202T233000Z
DTEND:20191203T003000Z
X-MICROSOFT-CDO-ALLDAYEVENT:FALSE
SUMMARY:Annual Community Christmas Tree Lighting
DESCRIPTION:Bristol's Annual Community Christmas Tree Lighting is set for Monday\, December 2nd at 6:30 p.m. at Cumberland Square Park in Historic Downtown Bristol. The event showcases the site's nearly 50-foot Norwegian Spruce and its younger counterpart\, a 25-foot Douglas Fir decorated with thousands of warm-white Christmas lights   about 30\,000 of them   for a dramatic and joyous display.
X-ALT-DESC;FMTTYPE=text/html:<span style="font-family: &quot\;Crimson Text&quot\;\, Georgia\, serif\; font-size: 14px\; background-color: rgb(255\, 255\, 255)\;">Bristol&rsquo\;s Annual Community Christmas Tree Lighting is set for Monday\, December 2nd at 6:30 p.m. at Cumberland Square Park in Historic Downtown Bristol. The event showcases the site&rsquo\;s nearly 50-foot Norwegian Spruce and its younger counterpart\, a 25-foot Douglas Fir decorated with thousands of warm-white Christmas lights &ndash\; about 30\,000 of them &ndash\; for a dramatic and joyous display.</span>
LOCATION:Cumberland Square Park\, Downtown Bristol
UID:e.2564.794195
SEQUENCE:3
DTSTAMP:20260422T033934Z
URL:https://business.bristolchamber.com/events/details/annual-community-christmas-tree-lighting-794195
END:VEVENT

END:VCALENDAR
