BEGIN:VCALENDAR
VERSION:2.0
PRODID:-//ChamberMaster//Event Calendar 2.0//EN
METHOD:PUBLISH
X-PUBLISHED-TTL:P3D
REFRESH-INTERVAL:P3D
CALSCALE:GREGORIAN
BEGIN:VEVENT
DTSTART:20170921T223000Z
DTEND:20170922T013000Z
X-MICROSOFT-CDO-ALLDAYEVENT:FALSE
SUMMARY:American Sign Language I 8-week series
DESCRIPTION:Workforce Solutions offering 8 week\, American Sign Language I class for beginners.
X-ALT-DESC;FMTTYPE=text/html:Workforce Solutions offering 8 week\, American Sign Language I class for beginners.
LOCATION:Northeast State Community College\; Blountville campus
UID:e.2564.790188
SEQUENCE:3
DTSTAMP:20260425T233732Z
URL:https://business.bristolchamber.com/events/details/american-sign-language-i-8-week-series-09-21-2017-790188
END:VEVENT

END:VCALENDAR
