BEGIN:VCALENDAR
VERSION:2.0
PRODID:-//ChamberMaster//Event Calendar 2.0//EN
METHOD:PUBLISH
X-PUBLISHED-TTL:P3D
REFRESH-INTERVAL:P3D
CALSCALE:GREGORIAN
BEGIN:VEVENT
DTSTART:20191116T140000Z
DTEND:20191116T170000Z
X-MICROSOFT-CDO-ALLDAYEVENT:FALSE
SUMMARY:America Recycles Day
DESCRIPTION:America Recycles Day
X-ALT-DESC;FMTTYPE=text/html:America Recycles Day
LOCATION:Devault Field 1501 Euclid Ave Bristol\, VA
UID:e.2564.791794
SEQUENCE:3
DTSTAMP:20260420T212642Z
URL:https://business.bristolchamber.com/events/details/america-recycles-day-791794
END:VEVENT

END:VCALENDAR
